BEGIN:VCALENDAR
VERSION:2.0
PRODID:-//Lake O&#039; The Pines Baptist Church - ECPv6.15.20//NONSGML v1.0//EN
CALSCALE:GREGORIAN
METHOD:PUBLISH
X-WR-CALNAME:Lake O&#039; The Pines Baptist Church
X-ORIGINAL-URL:https://lopbc.org
X-WR-CALDESC:Events for Lake O&#039; The Pines Baptist Church
REFRESH-INTERVAL;VALUE=DURATION:PT1H
X-Robots-Tag:noindex
X-PUBLISHED-TTL:PT1H
BEGIN:VTIMEZONE
TZID:America/Chicago
BEGIN:DAYLIGHT
TZOFFSETFROM:-0600
TZOFFSETTO:-0500
TZNAME:CDT
DTSTART:20250309T080000
END:DAYLIGHT
BEGIN:STANDARD
TZOFFSETFROM:-0500
TZOFFSETTO:-0600
TZNAME:CST
DTSTART:20251102T070000
END:STANDARD
BEGIN:DAYLIGHT
TZOFFSETFROM:-0600
TZOFFSETTO:-0500
TZNAME:CDT
DTSTART:20260308T080000
END:DAYLIGHT
BEGIN:STANDARD
TZOFFSETFROM:-0500
TZOFFSETTO:-0600
TZNAME:CST
DTSTART:20261101T070000
END:STANDARD
BEGIN:DAYLIGHT
TZOFFSETFROM:-0600
TZOFFSETTO:-0500
TZNAME:CDT
DTSTART:20270314T080000
END:DAYLIGHT
BEGIN:STANDARD
TZOFFSETFROM:-0500
TZOFFSETTO:-0600
TZNAME:CST
DTSTART:20271107T070000
END:STANDARD
BEGIN:DAYLIGHT
TZOFFSETFROM:-0600
TZOFFSETTO:-0500
TZNAME:CDT
DTSTART:20280312T080000
END:DAYLIGHT
BEGIN:STANDARD
TZOFFSETFROM:-0500
TZOFFSETTO:-0600
TZNAME:CST
DTSTART:20281105T070000
END:STANDARD
END:VTIMEZONE
BEGIN:VEVENT
DTSTART;TZID=America/Chicago:20260719T093000
DTEND;TZID=America/Chicago:20260719T104500
DTSTAMP:20260422T214045
CREATED:20250130T213312Z
LAST-MODIFIED:20250131T005604Z
UID:10002020-1784453400-1784457900@lopbc.org
SUMMARY:Sunday AM Sunday School
DESCRIPTION:
URL:https://lopbc.org/church_event/sunday-am-sunday-school-2/2026-07-19/
LOCATION:Classrooms\, 9046 FM729\, Avinger\, TX\, 75630\, United States
CATEGORIES:Church-wide,Community,Sunday School
END:VEVENT
BEGIN:VEVENT
DTSTART;TZID=America/Chicago:20260726T093000
DTEND;TZID=America/Chicago:20260726T104500
DTSTAMP:20260422T214045
CREATED:20250130T213312Z
LAST-MODIFIED:20250131T005604Z
UID:10002021-1785058200-1785062700@lopbc.org
SUMMARY:Sunday AM Sunday School
DESCRIPTION:
URL:https://lopbc.org/church_event/sunday-am-sunday-school-2/2026-07-26/
LOCATION:Classrooms\, 9046 FM729\, Avinger\, TX\, 75630\, United States
CATEGORIES:Church-wide,Community,Sunday School
END:VEVENT
BEGIN:VEVENT
DTSTART;TZID=America/Chicago:20260802T093000
DTEND;TZID=America/Chicago:20260802T104500
DTSTAMP:20260422T214045
CREATED:20250130T213312Z
LAST-MODIFIED:20250131T005604Z
UID:10002022-1785663000-1785667500@lopbc.org
SUMMARY:Sunday AM Sunday School
DESCRIPTION:
URL:https://lopbc.org/church_event/sunday-am-sunday-school-2/2026-08-02/
LOCATION:Classrooms\, 9046 FM729\, Avinger\, TX\, 75630\, United States
CATEGORIES:Church-wide,Community,Sunday School
END:VEVENT
BEGIN:VEVENT
DTSTART;TZID=America/Chicago:20260809T093000
DTEND;TZID=America/Chicago:20260809T104500
DTSTAMP:20260422T214045
CREATED:20250130T213312Z
LAST-MODIFIED:20250131T005604Z
UID:10002023-1786267800-1786272300@lopbc.org
SUMMARY:Sunday AM Sunday School
DESCRIPTION:
URL:https://lopbc.org/church_event/sunday-am-sunday-school-2/2026-08-09/
LOCATION:Classrooms\, 9046 FM729\, Avinger\, TX\, 75630\, United States
CATEGORIES:Church-wide,Community,Sunday School
END:VEVENT
BEGIN:VEVENT
DTSTART;TZID=America/Chicago:20260816T093000
DTEND;TZID=America/Chicago:20260816T104500
DTSTAMP:20260422T214045
CREATED:20250130T213312Z
LAST-MODIFIED:20250131T005604Z
UID:10002024-1786872600-1786877100@lopbc.org
SUMMARY:Sunday AM Sunday School
DESCRIPTION:
URL:https://lopbc.org/church_event/sunday-am-sunday-school-2/2026-08-16/
LOCATION:Classrooms\, 9046 FM729\, Avinger\, TX\, 75630\, United States
CATEGORIES:Church-wide,Community,Sunday School
END:VEVENT
BEGIN:VEVENT
DTSTART;TZID=America/Chicago:20260823T093000
DTEND;TZID=America/Chicago:20260823T104500
DTSTAMP:20260422T214045
CREATED:20250130T213312Z
LAST-MODIFIED:20250131T005604Z
UID:10002025-1787477400-1787481900@lopbc.org
SUMMARY:Sunday AM Sunday School
DESCRIPTION:
URL:https://lopbc.org/church_event/sunday-am-sunday-school-2/2026-08-23/
LOCATION:Classrooms\, 9046 FM729\, Avinger\, TX\, 75630\, United States
CATEGORIES:Church-wide,Community,Sunday School
END:VEVENT
BEGIN:VEVENT
DTSTART;TZID=America/Chicago:20260830T093000
DTEND;TZID=America/Chicago:20260830T104500
DTSTAMP:20260422T214045
CREATED:20250130T213312Z
LAST-MODIFIED:20250131T005604Z
UID:10002026-1788082200-1788086700@lopbc.org
SUMMARY:Sunday AM Sunday School
DESCRIPTION:
URL:https://lopbc.org/church_event/sunday-am-sunday-school-2/2026-08-30/
LOCATION:Classrooms\, 9046 FM729\, Avinger\, TX\, 75630\, United States
CATEGORIES:Church-wide,Community,Sunday School
END:VEVENT
BEGIN:VEVENT
DTSTART;TZID=America/Chicago:20260906T093000
DTEND;TZID=America/Chicago:20260906T104500
DTSTAMP:20260422T214045
CREATED:20250130T213312Z
LAST-MODIFIED:20250131T005604Z
UID:10002027-1788687000-1788691500@lopbc.org
SUMMARY:Sunday AM Sunday School
DESCRIPTION:
URL:https://lopbc.org/church_event/sunday-am-sunday-school-2/2026-09-06/
LOCATION:Classrooms\, 9046 FM729\, Avinger\, TX\, 75630\, United States
CATEGORIES:Church-wide,Community,Sunday School
END:VEVENT
BEGIN:VEVENT
DTSTART;TZID=America/Chicago:20260913T093000
DTEND;TZID=America/Chicago:20260913T104500
DTSTAMP:20260422T214045
CREATED:20250130T213312Z
LAST-MODIFIED:20250131T005604Z
UID:10002028-1789291800-1789296300@lopbc.org
SUMMARY:Sunday AM Sunday School
DESCRIPTION:
URL:https://lopbc.org/church_event/sunday-am-sunday-school-2/2026-09-13/
LOCATION:Classrooms\, 9046 FM729\, Avinger\, TX\, 75630\, United States
CATEGORIES:Church-wide,Community,Sunday School
END:VEVENT
BEGIN:VEVENT
DTSTART;TZID=America/Chicago:20260920T093000
DTEND;TZID=America/Chicago:20260920T104500
DTSTAMP:20260422T214045
CREATED:20250130T213312Z
LAST-MODIFIED:20250131T005604Z
UID:10002029-1789896600-1789901100@lopbc.org
SUMMARY:Sunday AM Sunday School
DESCRIPTION:
URL:https://lopbc.org/church_event/sunday-am-sunday-school-2/2026-09-20/
LOCATION:Classrooms\, 9046 FM729\, Avinger\, TX\, 75630\, United States
CATEGORIES:Church-wide,Community,Sunday School
END:VEVENT
BEGIN:VEVENT
DTSTART;TZID=America/Chicago:20260927T093000
DTEND;TZID=America/Chicago:20260927T104500
DTSTAMP:20260422T214045
CREATED:20250130T213312Z
LAST-MODIFIED:20250131T005604Z
UID:10002030-1790501400-1790505900@lopbc.org
SUMMARY:Sunday AM Sunday School
DESCRIPTION:
URL:https://lopbc.org/church_event/sunday-am-sunday-school-2/2026-09-27/
LOCATION:Classrooms\, 9046 FM729\, Avinger\, TX\, 75630\, United States
CATEGORIES:Church-wide,Community,Sunday School
END:VEVENT
BEGIN:VEVENT
DTSTART;TZID=America/Chicago:20261004T093000
DTEND;TZID=America/Chicago:20261004T104500
DTSTAMP:20260422T214045
CREATED:20250130T213312Z
LAST-MODIFIED:20250131T005604Z
UID:10002031-1791106200-1791110700@lopbc.org
SUMMARY:Sunday AM Sunday School
DESCRIPTION:
URL:https://lopbc.org/church_event/sunday-am-sunday-school-2/2026-10-04/
LOCATION:Classrooms\, 9046 FM729\, Avinger\, TX\, 75630\, United States
CATEGORIES:Church-wide,Community,Sunday School
END:VEVENT
BEGIN:VEVENT
DTSTART;TZID=America/Chicago:20261011T093000
DTEND;TZID=America/Chicago:20261011T104500
DTSTAMP:20260422T214045
CREATED:20250130T213312Z
LAST-MODIFIED:20250131T005604Z
UID:10002032-1791711000-1791715500@lopbc.org
SUMMARY:Sunday AM Sunday School
DESCRIPTION:
URL:https://lopbc.org/church_event/sunday-am-sunday-school-2/2026-10-11/
LOCATION:Classrooms\, 9046 FM729\, Avinger\, TX\, 75630\, United States
CATEGORIES:Church-wide,Community,Sunday School
END:VEVENT
BEGIN:VEVENT
DTSTART;TZID=America/Chicago:20261018T093000
DTEND;TZID=America/Chicago:20261018T104500
DTSTAMP:20260422T214045
CREATED:20250130T213312Z
LAST-MODIFIED:20250131T005604Z
UID:10002033-1792315800-1792320300@lopbc.org
SUMMARY:Sunday AM Sunday School
DESCRIPTION:
URL:https://lopbc.org/church_event/sunday-am-sunday-school-2/2026-10-18/
LOCATION:Classrooms\, 9046 FM729\, Avinger\, TX\, 75630\, United States
CATEGORIES:Church-wide,Community,Sunday School
END:VEVENT
BEGIN:VEVENT
DTSTART;TZID=America/Chicago:20261025T093000
DTEND;TZID=America/Chicago:20261025T104500
DTSTAMP:20260422T214045
CREATED:20250130T213312Z
LAST-MODIFIED:20250131T005604Z
UID:10002034-1792920600-1792925100@lopbc.org
SUMMARY:Sunday AM Sunday School
DESCRIPTION:
URL:https://lopbc.org/church_event/sunday-am-sunday-school-2/2026-10-25/
LOCATION:Classrooms\, 9046 FM729\, Avinger\, TX\, 75630\, United States
CATEGORIES:Church-wide,Community,Sunday School
END:VEVENT
BEGIN:VEVENT
DTSTART;TZID=America/Chicago:20261101T093000
DTEND;TZID=America/Chicago:20261101T104500
DTSTAMP:20260422T214045
CREATED:20250130T213312Z
LAST-MODIFIED:20250131T005604Z
UID:10002035-1793525400-1793529900@lopbc.org
SUMMARY:Sunday AM Sunday School
DESCRIPTION:
URL:https://lopbc.org/church_event/sunday-am-sunday-school-2/2026-11-01/
LOCATION:Classrooms\, 9046 FM729\, Avinger\, TX\, 75630\, United States
CATEGORIES:Church-wide,Community,Sunday School
END:VEVENT
BEGIN:VEVENT
DTSTART;TZID=America/Chicago:20261108T093000
DTEND;TZID=America/Chicago:20261108T104500
DTSTAMP:20260422T214045
CREATED:20250130T213312Z
LAST-MODIFIED:20250131T005604Z
UID:10002036-1794130200-1794134700@lopbc.org
SUMMARY:Sunday AM Sunday School
DESCRIPTION:
URL:https://lopbc.org/church_event/sunday-am-sunday-school-2/2026-11-08/
LOCATION:Classrooms\, 9046 FM729\, Avinger\, TX\, 75630\, United States
CATEGORIES:Church-wide,Community,Sunday School
END:VEVENT
BEGIN:VEVENT
DTSTART;TZID=America/Chicago:20261115T093000
DTEND;TZID=America/Chicago:20261115T104500
DTSTAMP:20260422T214045
CREATED:20250130T213312Z
LAST-MODIFIED:20250131T005604Z
UID:10002037-1794735000-1794739500@lopbc.org
SUMMARY:Sunday AM Sunday School
DESCRIPTION:
URL:https://lopbc.org/church_event/sunday-am-sunday-school-2/2026-11-15/
LOCATION:Classrooms\, 9046 FM729\, Avinger\, TX\, 75630\, United States
CATEGORIES:Church-wide,Community,Sunday School
END:VEVENT
BEGIN:VEVENT
DTSTART;TZID=America/Chicago:20261122T093000
DTEND;TZID=America/Chicago:20261122T104500
DTSTAMP:20260422T214045
CREATED:20250130T213312Z
LAST-MODIFIED:20250131T005604Z
UID:10002038-1795339800-1795344300@lopbc.org
SUMMARY:Sunday AM Sunday School
DESCRIPTION:
URL:https://lopbc.org/church_event/sunday-am-sunday-school-2/2026-11-22/
LOCATION:Classrooms\, 9046 FM729\, Avinger\, TX\, 75630\, United States
CATEGORIES:Church-wide,Community,Sunday School
END:VEVENT
BEGIN:VEVENT
DTSTART;TZID=America/Chicago:20261129T093000
DTEND;TZID=America/Chicago:20261129T104500
DTSTAMP:20260422T214045
CREATED:20250130T213312Z
LAST-MODIFIED:20250131T005604Z
UID:10002039-1795944600-1795949100@lopbc.org
SUMMARY:Sunday AM Sunday School
DESCRIPTION:
URL:https://lopbc.org/church_event/sunday-am-sunday-school-2/2026-11-29/
LOCATION:Classrooms\, 9046 FM729\, Avinger\, TX\, 75630\, United States
CATEGORIES:Church-wide,Community,Sunday School
END:VEVENT
BEGIN:VEVENT
DTSTART;TZID=America/Chicago:20261206T093000
DTEND;TZID=America/Chicago:20261206T104500
DTSTAMP:20260422T214045
CREATED:20250130T213312Z
LAST-MODIFIED:20250131T005604Z
UID:10002040-1796549400-1796553900@lopbc.org
SUMMARY:Sunday AM Sunday School
DESCRIPTION:
URL:https://lopbc.org/church_event/sunday-am-sunday-school-2/2026-12-06/
LOCATION:Classrooms\, 9046 FM729\, Avinger\, TX\, 75630\, United States
CATEGORIES:Church-wide,Community,Sunday School
END:VEVENT
BEGIN:VEVENT
DTSTART;TZID=America/Chicago:20261213T093000
DTEND;TZID=America/Chicago:20261213T104500
DTSTAMP:20260422T214045
CREATED:20250130T213312Z
LAST-MODIFIED:20250131T005604Z
UID:10002041-1797154200-1797158700@lopbc.org
SUMMARY:Sunday AM Sunday School
DESCRIPTION:
URL:https://lopbc.org/church_event/sunday-am-sunday-school-2/2026-12-13/
LOCATION:Classrooms\, 9046 FM729\, Avinger\, TX\, 75630\, United States
CATEGORIES:Church-wide,Community,Sunday School
END:VEVENT
BEGIN:VEVENT
DTSTART;TZID=America/Chicago:20261220T093000
DTEND;TZID=America/Chicago:20261220T104500
DTSTAMP:20260422T214045
CREATED:20250130T213312Z
LAST-MODIFIED:20250131T005604Z
UID:10002042-1797759000-1797763500@lopbc.org
SUMMARY:Sunday AM Sunday School
DESCRIPTION:
URL:https://lopbc.org/church_event/sunday-am-sunday-school-2/2026-12-20/
LOCATION:Classrooms\, 9046 FM729\, Avinger\, TX\, 75630\, United States
CATEGORIES:Church-wide,Community,Sunday School
END:VEVENT
BEGIN:VEVENT
DTSTART;TZID=America/Chicago:20261227T093000
DTEND;TZID=America/Chicago:20261227T104500
DTSTAMP:20260422T214045
CREATED:20250130T213312Z
LAST-MODIFIED:20250131T005604Z
UID:10002043-1798363800-1798368300@lopbc.org
SUMMARY:Sunday AM Sunday School
DESCRIPTION:
URL:https://lopbc.org/church_event/sunday-am-sunday-school-2/2026-12-27/
LOCATION:Classrooms\, 9046 FM729\, Avinger\, TX\, 75630\, United States
CATEGORIES:Church-wide,Community,Sunday School
END:VEVENT
BEGIN:VEVENT
DTSTART;TZID=America/Chicago:20270103T093000
DTEND;TZID=America/Chicago:20270103T104500
DTSTAMP:20260422T214045
CREATED:20250130T213312Z
LAST-MODIFIED:20250131T005604Z
UID:10002044-1798968600-1798973100@lopbc.org
SUMMARY:Sunday AM Sunday School
DESCRIPTION:
URL:https://lopbc.org/church_event/sunday-am-sunday-school-2/2027-01-03/
LOCATION:Classrooms\, 9046 FM729\, Avinger\, TX\, 75630\, United States
CATEGORIES:Church-wide,Community,Sunday School
END:VEVENT
BEGIN:VEVENT
DTSTART;TZID=America/Chicago:20270110T093000
DTEND;TZID=America/Chicago:20270110T104500
DTSTAMP:20260422T214045
CREATED:20250130T213312Z
LAST-MODIFIED:20250131T005604Z
UID:10002045-1799573400-1799577900@lopbc.org
SUMMARY:Sunday AM Sunday School
DESCRIPTION:
URL:https://lopbc.org/church_event/sunday-am-sunday-school-2/2027-01-10/
LOCATION:Classrooms\, 9046 FM729\, Avinger\, TX\, 75630\, United States
CATEGORIES:Church-wide,Community,Sunday School
END:VEVENT
BEGIN:VEVENT
DTSTART;TZID=America/Chicago:20270117T093000
DTEND;TZID=America/Chicago:20270117T104500
DTSTAMP:20260422T214045
CREATED:20250130T213312Z
LAST-MODIFIED:20250131T005604Z
UID:10002046-1800178200-1800182700@lopbc.org
SUMMARY:Sunday AM Sunday School
DESCRIPTION:
URL:https://lopbc.org/church_event/sunday-am-sunday-school-2/2027-01-17/
LOCATION:Classrooms\, 9046 FM729\, Avinger\, TX\, 75630\, United States
CATEGORIES:Church-wide,Community,Sunday School
END:VEVENT
BEGIN:VEVENT
DTSTART;TZID=America/Chicago:20270124T093000
DTEND;TZID=America/Chicago:20270124T104500
DTSTAMP:20260422T214045
CREATED:20250130T213312Z
LAST-MODIFIED:20250131T005604Z
UID:10002047-1800783000-1800787500@lopbc.org
SUMMARY:Sunday AM Sunday School
DESCRIPTION:
URL:https://lopbc.org/church_event/sunday-am-sunday-school-2/2027-01-24/
LOCATION:Classrooms\, 9046 FM729\, Avinger\, TX\, 75630\, United States
CATEGORIES:Church-wide,Community,Sunday School
END:VEVENT
BEGIN:VEVENT
DTSTART;TZID=America/Chicago:20270131T093000
DTEND;TZID=America/Chicago:20270131T104500
DTSTAMP:20260422T214045
CREATED:20250130T213312Z
LAST-MODIFIED:20250131T005604Z
UID:10002048-1801387800-1801392300@lopbc.org
SUMMARY:Sunday AM Sunday School
DESCRIPTION:
URL:https://lopbc.org/church_event/sunday-am-sunday-school-2/2027-01-31/
LOCATION:Classrooms\, 9046 FM729\, Avinger\, TX\, 75630\, United States
CATEGORIES:Church-wide,Community,Sunday School
END:VEVENT
BEGIN:VEVENT
DTSTART;TZID=America/Chicago:20270207T093000
DTEND;TZID=America/Chicago:20270207T104500
DTSTAMP:20260422T214045
CREATED:20250130T213312Z
LAST-MODIFIED:20250131T005604Z
UID:10002049-1801992600-1801997100@lopbc.org
SUMMARY:Sunday AM Sunday School
DESCRIPTION:
URL:https://lopbc.org/church_event/sunday-am-sunday-school-2/2027-02-07/
LOCATION:Classrooms\, 9046 FM729\, Avinger\, TX\, 75630\, United States
CATEGORIES:Church-wide,Community,Sunday School
END:VEVENT
END:VCALENDAR