BEGIN:VCALENDAR
VERSION:2.0
PRODID:-//Lake O&#039; The Pines Baptist Church - ECPv6.15.20//NONSGML v1.0//EN
CALSCALE:GREGORIAN
METHOD:PUBLISH
X-WR-CALNAME:Lake O&#039; The Pines Baptist Church
X-ORIGINAL-URL:https://lopbc.org
X-WR-CALDESC:Events for Lake O&#039; The Pines Baptist Church
REFRESH-INTERVAL;VALUE=DURATION:PT1H
X-Robots-Tag:noindex
X-PUBLISHED-TTL:PT1H
BEGIN:VTIMEZONE
TZID:America/Chicago
BEGIN:DAYLIGHT
TZOFFSETFROM:-0600
TZOFFSETTO:-0500
TZNAME:CDT
DTSTART:20260308T080000
END:DAYLIGHT
BEGIN:STANDARD
TZOFFSETFROM:-0500
TZOFFSETTO:-0600
TZNAME:CST
DTSTART:20261101T070000
END:STANDARD
BEGIN:DAYLIGHT
TZOFFSETFROM:-0600
TZOFFSETTO:-0500
TZNAME:CDT
DTSTART:20270314T080000
END:DAYLIGHT
BEGIN:STANDARD
TZOFFSETFROM:-0500
TZOFFSETTO:-0600
TZNAME:CST
DTSTART:20271107T070000
END:STANDARD
BEGIN:DAYLIGHT
TZOFFSETFROM:-0600
TZOFFSETTO:-0500
TZNAME:CDT
DTSTART:20280312T080000
END:DAYLIGHT
BEGIN:STANDARD
TZOFFSETFROM:-0500
TZOFFSETTO:-0600
TZNAME:CST
DTSTART:20281105T070000
END:STANDARD
BEGIN:DAYLIGHT
TZOFFSETFROM:-0600
TZOFFSETTO:-0500
TZNAME:CDT
DTSTART:20290311T080000
END:DAYLIGHT
BEGIN:STANDARD
TZOFFSETFROM:-0500
TZOFFSETTO:-0600
TZNAME:CST
DTSTART:20291104T070000
END:STANDARD
END:VTIMEZONE
BEGIN:VEVENT
DTSTART;TZID=America/Chicago:20271013T180000
DTEND;TZID=America/Chicago:20271013T183000
DTSTAMP:20260423T103014
CREATED:20250130T214435Z
LAST-MODIFIED:20260222T204211Z
UID:10002884-1823450400-1823452200@lopbc.org
SUMMARY:Family Night Meal
DESCRIPTION:
URL:https://lopbc.org/church_event/family-night-meal/2027-10-13/
LOCATION:Fellowship Hall\, 9046 FM729\, Avinger\, TX\, 75630
CATEGORIES:Church-wide,Community
END:VEVENT
BEGIN:VEVENT
DTSTART;TZID=America/Chicago:20271016T080000
DTEND;TZID=America/Chicago:20271016T090000
DTSTAMP:20260423T103014
CREATED:20240225T221030Z
LAST-MODIFIED:20250130T231350Z
UID:10000172-1823673600-1823677200@lopbc.org
SUMMARY:Men's Breakfast
DESCRIPTION:Fellowship with men every third Saturday at 8:00AM. Enjoy a manly feast of bacon\, eggs\, sausage\, biscuits and gravy and more!
URL:https://lopbc.org/church_event/mens-breakfast/2027-10-16/
LOCATION:Fellowship Hall\, 9046 FM729\, Avinger\, TX\, 75630
CATEGORIES:Men's Ministry
ATTACH;FMTTYPE=image/jpeg:https://lopbc.org/wp-content/uploads/2024/02/pexels-athena-2961957-scaled.jpg
END:VEVENT
BEGIN:VEVENT
DTSTART;TZID=America/Chicago:20271020T180000
DTEND;TZID=America/Chicago:20271020T183000
DTSTAMP:20260423T103014
CREATED:20250130T214435Z
LAST-MODIFIED:20260222T204211Z
UID:10002885-1824055200-1824057000@lopbc.org
SUMMARY:Family Night Meal
DESCRIPTION:
URL:https://lopbc.org/church_event/family-night-meal/2027-10-20/
LOCATION:Fellowship Hall\, 9046 FM729\, Avinger\, TX\, 75630
CATEGORIES:Church-wide,Community
END:VEVENT
BEGIN:VEVENT
DTSTART;TZID=America/Chicago:20271027T180000
DTEND;TZID=America/Chicago:20271027T183000
DTSTAMP:20260423T103014
CREATED:20250130T214435Z
LAST-MODIFIED:20260222T204211Z
UID:10002886-1824660000-1824661800@lopbc.org
SUMMARY:Family Night Meal
DESCRIPTION:
URL:https://lopbc.org/church_event/family-night-meal/2027-10-27/
LOCATION:Fellowship Hall\, 9046 FM729\, Avinger\, TX\, 75630
CATEGORIES:Church-wide,Community
END:VEVENT
BEGIN:VEVENT
DTSTART;TZID=America/Chicago:20271102T183000
DTEND;TZID=America/Chicago:20271102T193000
DTSTAMP:20260423T103014
CREATED:20240925T131838Z
LAST-MODIFIED:20240925T133039Z
UID:10001233-1825180200-1825183800@lopbc.org
SUMMARY:Man Camp
DESCRIPTION:Come enjoy a meat-filled meal and fellowship with the men of the church. Occurs every 1st Tuesday.
URL:https://lopbc.org/church_event/man-camp/2027-11-02/
LOCATION:Fellowship Hall\, 9046 FM729\, Avinger\, TX\, 75630
CATEGORIES:Community,Men's Ministry
END:VEVENT
BEGIN:VEVENT
DTSTART;TZID=America/Chicago:20271103T180000
DTEND;TZID=America/Chicago:20271103T183000
DTSTAMP:20260423T103014
CREATED:20250130T214435Z
LAST-MODIFIED:20260222T204211Z
UID:10002887-1825264800-1825266600@lopbc.org
SUMMARY:Family Night Meal
DESCRIPTION:
URL:https://lopbc.org/church_event/family-night-meal/2027-11-03/
LOCATION:Fellowship Hall\, 9046 FM729\, Avinger\, TX\, 75630
CATEGORIES:Church-wide,Community
END:VEVENT
BEGIN:VEVENT
DTSTART;TZID=America/Chicago:20271110T180000
DTEND;TZID=America/Chicago:20271110T183000
DTSTAMP:20260423T103014
CREATED:20250130T214435Z
LAST-MODIFIED:20260222T204211Z
UID:10002888-1825869600-1825871400@lopbc.org
SUMMARY:Family Night Meal
DESCRIPTION:
URL:https://lopbc.org/church_event/family-night-meal/2027-11-10/
LOCATION:Fellowship Hall\, 9046 FM729\, Avinger\, TX\, 75630
CATEGORIES:Church-wide,Community
END:VEVENT
BEGIN:VEVENT
DTSTART;TZID=America/Chicago:20271117T180000
DTEND;TZID=America/Chicago:20271117T183000
DTSTAMP:20260423T103014
CREATED:20250130T214435Z
LAST-MODIFIED:20260222T204211Z
UID:10002889-1826474400-1826476200@lopbc.org
SUMMARY:Family Night Meal
DESCRIPTION:
URL:https://lopbc.org/church_event/family-night-meal/2027-11-17/
LOCATION:Fellowship Hall\, 9046 FM729\, Avinger\, TX\, 75630
CATEGORIES:Church-wide,Community
END:VEVENT
BEGIN:VEVENT
DTSTART;TZID=America/Chicago:20271120T080000
DTEND;TZID=America/Chicago:20271120T090000
DTSTAMP:20260423T103014
CREATED:20240225T221030Z
LAST-MODIFIED:20250130T231350Z
UID:10000173-1826697600-1826701200@lopbc.org
SUMMARY:Men's Breakfast
DESCRIPTION:Fellowship with men every third Saturday at 8:00AM. Enjoy a manly feast of bacon\, eggs\, sausage\, biscuits and gravy and more!
URL:https://lopbc.org/church_event/mens-breakfast/2027-11-20/
LOCATION:Fellowship Hall\, 9046 FM729\, Avinger\, TX\, 75630
CATEGORIES:Men's Ministry
ATTACH;FMTTYPE=image/jpeg:https://lopbc.org/wp-content/uploads/2024/02/pexels-athena-2961957-scaled.jpg
END:VEVENT
BEGIN:VEVENT
DTSTART;TZID=America/Chicago:20271124T180000
DTEND;TZID=America/Chicago:20271124T183000
DTSTAMP:20260423T103014
CREATED:20250130T214435Z
LAST-MODIFIED:20260222T204211Z
UID:10002890-1827079200-1827081000@lopbc.org
SUMMARY:Family Night Meal
DESCRIPTION:
URL:https://lopbc.org/church_event/family-night-meal/2027-11-24/
LOCATION:Fellowship Hall\, 9046 FM729\, Avinger\, TX\, 75630
CATEGORIES:Church-wide,Community
END:VEVENT
BEGIN:VEVENT
DTSTART;TZID=America/Chicago:20271201T180000
DTEND;TZID=America/Chicago:20271201T183000
DTSTAMP:20260423T103014
CREATED:20250130T214435Z
LAST-MODIFIED:20260222T204211Z
UID:10002891-1827684000-1827685800@lopbc.org
SUMMARY:Family Night Meal
DESCRIPTION:
URL:https://lopbc.org/church_event/family-night-meal/2027-12-01/
LOCATION:Fellowship Hall\, 9046 FM729\, Avinger\, TX\, 75630
CATEGORIES:Church-wide,Community
END:VEVENT
BEGIN:VEVENT
DTSTART;TZID=America/Chicago:20271207T183000
DTEND;TZID=America/Chicago:20271207T193000
DTSTAMP:20260423T103014
CREATED:20240925T131838Z
LAST-MODIFIED:20240925T133039Z
UID:10001234-1828204200-1828207800@lopbc.org
SUMMARY:Man Camp
DESCRIPTION:Come enjoy a meat-filled meal and fellowship with the men of the church. Occurs every 1st Tuesday.
URL:https://lopbc.org/church_event/man-camp/2027-12-07/
LOCATION:Fellowship Hall\, 9046 FM729\, Avinger\, TX\, 75630
CATEGORIES:Community,Men's Ministry
END:VEVENT
BEGIN:VEVENT
DTSTART;TZID=America/Chicago:20271208T180000
DTEND;TZID=America/Chicago:20271208T183000
DTSTAMP:20260423T103014
CREATED:20250130T214435Z
LAST-MODIFIED:20260222T204211Z
UID:10002892-1828288800-1828290600@lopbc.org
SUMMARY:Family Night Meal
DESCRIPTION:
URL:https://lopbc.org/church_event/family-night-meal/2027-12-08/
LOCATION:Fellowship Hall\, 9046 FM729\, Avinger\, TX\, 75630
CATEGORIES:Church-wide,Community
END:VEVENT
BEGIN:VEVENT
DTSTART;TZID=America/Chicago:20271215T180000
DTEND;TZID=America/Chicago:20271215T183000
DTSTAMP:20260423T103014
CREATED:20250130T214435Z
LAST-MODIFIED:20260222T204211Z
UID:10002893-1828893600-1828895400@lopbc.org
SUMMARY:Family Night Meal
DESCRIPTION:
URL:https://lopbc.org/church_event/family-night-meal/2027-12-15/
LOCATION:Fellowship Hall\, 9046 FM729\, Avinger\, TX\, 75630
CATEGORIES:Church-wide,Community
END:VEVENT
BEGIN:VEVENT
DTSTART;TZID=America/Chicago:20271218T080000
DTEND;TZID=America/Chicago:20271218T090000
DTSTAMP:20260423T103014
CREATED:20240225T221030Z
LAST-MODIFIED:20250130T231350Z
UID:10000174-1829116800-1829120400@lopbc.org
SUMMARY:Men's Breakfast
DESCRIPTION:Fellowship with men every third Saturday at 8:00AM. Enjoy a manly feast of bacon\, eggs\, sausage\, biscuits and gravy and more!
URL:https://lopbc.org/church_event/mens-breakfast/2027-12-18/
LOCATION:Fellowship Hall\, 9046 FM729\, Avinger\, TX\, 75630
CATEGORIES:Men's Ministry
ATTACH;FMTTYPE=image/jpeg:https://lopbc.org/wp-content/uploads/2024/02/pexels-athena-2961957-scaled.jpg
END:VEVENT
BEGIN:VEVENT
DTSTART;TZID=America/Chicago:20271222T180000
DTEND;TZID=America/Chicago:20271222T183000
DTSTAMP:20260423T103014
CREATED:20250130T214435Z
LAST-MODIFIED:20260222T204211Z
UID:10002894-1829498400-1829500200@lopbc.org
SUMMARY:Family Night Meal
DESCRIPTION:
URL:https://lopbc.org/church_event/family-night-meal/2027-12-22/
LOCATION:Fellowship Hall\, 9046 FM729\, Avinger\, TX\, 75630
CATEGORIES:Church-wide,Community
END:VEVENT
BEGIN:VEVENT
DTSTART;TZID=America/Chicago:20271229T180000
DTEND;TZID=America/Chicago:20271229T183000
DTSTAMP:20260423T103014
CREATED:20250130T214435Z
LAST-MODIFIED:20260222T204211Z
UID:10002895-1830103200-1830105000@lopbc.org
SUMMARY:Family Night Meal
DESCRIPTION:
URL:https://lopbc.org/church_event/family-night-meal/2027-12-29/
LOCATION:Fellowship Hall\, 9046 FM729\, Avinger\, TX\, 75630
CATEGORIES:Church-wide,Community
END:VEVENT
BEGIN:VEVENT
DTSTART;TZID=America/Chicago:20280104T183000
DTEND;TZID=America/Chicago:20280104T193000
DTSTAMP:20260423T103014
CREATED:20240925T131838Z
LAST-MODIFIED:20240925T133039Z
UID:10001235-1830623400-1830627000@lopbc.org
SUMMARY:Man Camp
DESCRIPTION:Come enjoy a meat-filled meal and fellowship with the men of the church. Occurs every 1st Tuesday.
URL:https://lopbc.org/church_event/man-camp/2028-01-04/
LOCATION:Fellowship Hall\, 9046 FM729\, Avinger\, TX\, 75630
CATEGORIES:Community,Men's Ministry
END:VEVENT
BEGIN:VEVENT
DTSTART;TZID=America/Chicago:20280105T180000
DTEND;TZID=America/Chicago:20280105T183000
DTSTAMP:20260423T103014
CREATED:20250130T214435Z
LAST-MODIFIED:20260222T204211Z
UID:10002896-1830708000-1830709800@lopbc.org
SUMMARY:Family Night Meal
DESCRIPTION:
URL:https://lopbc.org/church_event/family-night-meal/2028-01-05/
LOCATION:Fellowship Hall\, 9046 FM729\, Avinger\, TX\, 75630
CATEGORIES:Church-wide,Community
END:VEVENT
BEGIN:VEVENT
DTSTART;TZID=America/Chicago:20280112T180000
DTEND;TZID=America/Chicago:20280112T183000
DTSTAMP:20260423T103014
CREATED:20250130T214435Z
LAST-MODIFIED:20260222T204211Z
UID:10002897-1831312800-1831314600@lopbc.org
SUMMARY:Family Night Meal
DESCRIPTION:
URL:https://lopbc.org/church_event/family-night-meal/2028-01-12/
LOCATION:Fellowship Hall\, 9046 FM729\, Avinger\, TX\, 75630
CATEGORIES:Church-wide,Community
END:VEVENT
BEGIN:VEVENT
DTSTART;TZID=America/Chicago:20280115T080000
DTEND;TZID=America/Chicago:20280115T090000
DTSTAMP:20260423T103014
CREATED:20240225T221030Z
LAST-MODIFIED:20250130T231350Z
UID:10000175-1831536000-1831539600@lopbc.org
SUMMARY:Men's Breakfast
DESCRIPTION:Fellowship with men every third Saturday at 8:00AM. Enjoy a manly feast of bacon\, eggs\, sausage\, biscuits and gravy and more!
URL:https://lopbc.org/church_event/mens-breakfast/2028-01-15/
LOCATION:Fellowship Hall\, 9046 FM729\, Avinger\, TX\, 75630
CATEGORIES:Men's Ministry
ATTACH;FMTTYPE=image/jpeg:https://lopbc.org/wp-content/uploads/2024/02/pexels-athena-2961957-scaled.jpg
END:VEVENT
BEGIN:VEVENT
DTSTART;TZID=America/Chicago:20280119T180000
DTEND;TZID=America/Chicago:20280119T183000
DTSTAMP:20260423T103014
CREATED:20250130T214435Z
LAST-MODIFIED:20260222T204211Z
UID:10002898-1831917600-1831919400@lopbc.org
SUMMARY:Family Night Meal
DESCRIPTION:
URL:https://lopbc.org/church_event/family-night-meal/2028-01-19/
LOCATION:Fellowship Hall\, 9046 FM729\, Avinger\, TX\, 75630
CATEGORIES:Church-wide,Community
END:VEVENT
BEGIN:VEVENT
DTSTART;TZID=America/Chicago:20280126T180000
DTEND;TZID=America/Chicago:20280126T183000
DTSTAMP:20260423T103014
CREATED:20250130T214435Z
LAST-MODIFIED:20260222T204211Z
UID:10002899-1832522400-1832524200@lopbc.org
SUMMARY:Family Night Meal
DESCRIPTION:
URL:https://lopbc.org/church_event/family-night-meal/2028-01-26/
LOCATION:Fellowship Hall\, 9046 FM729\, Avinger\, TX\, 75630
CATEGORIES:Church-wide,Community
END:VEVENT
BEGIN:VEVENT
DTSTART;TZID=America/Chicago:20280201T183000
DTEND;TZID=America/Chicago:20280201T193000
DTSTAMP:20260423T103014
CREATED:20240925T131838Z
LAST-MODIFIED:20240925T133039Z
UID:10001236-1833042600-1833046200@lopbc.org
SUMMARY:Man Camp
DESCRIPTION:Come enjoy a meat-filled meal and fellowship with the men of the church. Occurs every 1st Tuesday.
URL:https://lopbc.org/church_event/man-camp/2028-02-01/
LOCATION:Fellowship Hall\, 9046 FM729\, Avinger\, TX\, 75630
CATEGORIES:Community,Men's Ministry
END:VEVENT
BEGIN:VEVENT
DTSTART;TZID=America/Chicago:20280202T180000
DTEND;TZID=America/Chicago:20280202T183000
DTSTAMP:20260423T103014
CREATED:20250130T214435Z
LAST-MODIFIED:20260222T204211Z
UID:10002900-1833127200-1833129000@lopbc.org
SUMMARY:Family Night Meal
DESCRIPTION:
URL:https://lopbc.org/church_event/family-night-meal/2028-02-02/
LOCATION:Fellowship Hall\, 9046 FM729\, Avinger\, TX\, 75630
CATEGORIES:Church-wide,Community
END:VEVENT
BEGIN:VEVENT
DTSTART;TZID=America/Chicago:20280209T180000
DTEND;TZID=America/Chicago:20280209T183000
DTSTAMP:20260423T103014
CREATED:20250130T214435Z
LAST-MODIFIED:20260222T204211Z
UID:10002901-1833732000-1833733800@lopbc.org
SUMMARY:Family Night Meal
DESCRIPTION:
URL:https://lopbc.org/church_event/family-night-meal/2028-02-09/
LOCATION:Fellowship Hall\, 9046 FM729\, Avinger\, TX\, 75630
CATEGORIES:Church-wide,Community
END:VEVENT
BEGIN:VEVENT
DTSTART;TZID=America/Chicago:20280216T180000
DTEND;TZID=America/Chicago:20280216T183000
DTSTAMP:20260423T103014
CREATED:20250130T214435Z
LAST-MODIFIED:20260222T204211Z
UID:10002902-1834336800-1834338600@lopbc.org
SUMMARY:Family Night Meal
DESCRIPTION:
URL:https://lopbc.org/church_event/family-night-meal/2028-02-16/
LOCATION:Fellowship Hall\, 9046 FM729\, Avinger\, TX\, 75630
CATEGORIES:Church-wide,Community
END:VEVENT
BEGIN:VEVENT
DTSTART;TZID=America/Chicago:20280219T080000
DTEND;TZID=America/Chicago:20280219T090000
DTSTAMP:20260423T103014
CREATED:20240225T221030Z
LAST-MODIFIED:20250130T231350Z
UID:10000176-1834560000-1834563600@lopbc.org
SUMMARY:Men's Breakfast
DESCRIPTION:Fellowship with men every third Saturday at 8:00AM. Enjoy a manly feast of bacon\, eggs\, sausage\, biscuits and gravy and more!
URL:https://lopbc.org/church_event/mens-breakfast/2028-02-19/
LOCATION:Fellowship Hall\, 9046 FM729\, Avinger\, TX\, 75630
CATEGORIES:Men's Ministry
ATTACH;FMTTYPE=image/jpeg:https://lopbc.org/wp-content/uploads/2024/02/pexels-athena-2961957-scaled.jpg
END:VEVENT
BEGIN:VEVENT
DTSTART;TZID=America/Chicago:20280223T180000
DTEND;TZID=America/Chicago:20280223T183000
DTSTAMP:20260423T103014
CREATED:20250130T214435Z
LAST-MODIFIED:20260222T204211Z
UID:10002903-1834941600-1834943400@lopbc.org
SUMMARY:Family Night Meal
DESCRIPTION:
URL:https://lopbc.org/church_event/family-night-meal/2028-02-23/
LOCATION:Fellowship Hall\, 9046 FM729\, Avinger\, TX\, 75630
CATEGORIES:Church-wide,Community
END:VEVENT
BEGIN:VEVENT
DTSTART;TZID=America/Chicago:20280301T180000
DTEND;TZID=America/Chicago:20280301T183000
DTSTAMP:20260423T103014
CREATED:20250130T214435Z
LAST-MODIFIED:20260222T204211Z
UID:10002904-1835546400-1835548200@lopbc.org
SUMMARY:Family Night Meal
DESCRIPTION:
URL:https://lopbc.org/church_event/family-night-meal/2028-03-01/
LOCATION:Fellowship Hall\, 9046 FM729\, Avinger\, TX\, 75630
CATEGORIES:Church-wide,Community
END:VEVENT
END:VCALENDAR