BEGIN:VCALENDAR
VERSION:2.0
PRODID:-//Lake O&#039; The Pines Baptist Church - ECPv6.15.20//NONSGML v1.0//EN
CALSCALE:GREGORIAN
METHOD:PUBLISH
X-ORIGINAL-URL:https://lopbc.org
X-WR-CALDESC:Events for Lake O&#039; The Pines Baptist Church
REFRESH-INTERVAL;VALUE=DURATION:PT1H
X-Robots-Tag:noindex
X-PUBLISHED-TTL:PT1H
BEGIN:VTIMEZONE
TZID:America/Chicago
BEGIN:DAYLIGHT
TZOFFSETFROM:-0600
TZOFFSETTO:-0500
TZNAME:CDT
DTSTART:20270314T080000
END:DAYLIGHT
BEGIN:STANDARD
TZOFFSETFROM:-0500
TZOFFSETTO:-0600
TZNAME:CST
DTSTART:20271107T070000
END:STANDARD
BEGIN:DAYLIGHT
TZOFFSETFROM:-0600
TZOFFSETTO:-0500
TZNAME:CDT
DTSTART:20280312T080000
END:DAYLIGHT
BEGIN:STANDARD
TZOFFSETFROM:-0500
TZOFFSETTO:-0600
TZNAME:CST
DTSTART:20281105T070000
END:STANDARD
BEGIN:DAYLIGHT
TZOFFSETFROM:-0600
TZOFFSETTO:-0500
TZNAME:CDT
DTSTART:20290311T080000
END:DAYLIGHT
BEGIN:STANDARD
TZOFFSETFROM:-0500
TZOFFSETTO:-0600
TZNAME:CST
DTSTART:20291104T070000
END:STANDARD
END:VTIMEZONE
BEGIN:VEVENT
DTSTART;TZID=America/Chicago:20280726T180000
DTEND;TZID=America/Chicago:20280726T183000
DTSTAMP:20260423T184037
CREATED:20250130T214435Z
LAST-MODIFIED:20260222T204211Z
UID:10002925-1848247200-1848249000@lopbc.org
SUMMARY:Family Night Meal
DESCRIPTION:
URL:https://lopbc.org/church_event/family-night-meal/2028-07-26/
LOCATION:Fellowship Hall\, 9046 FM729\, Avinger\, TX\, 75630
CATEGORIES:Church-wide,Community
END:VEVENT
BEGIN:VEVENT
DTSTART;TZID=America/Chicago:20280801T183000
DTEND;TZID=America/Chicago:20280801T193000
DTSTAMP:20260423T184037
CREATED:20240925T131838Z
LAST-MODIFIED:20240925T133039Z
UID:10001242-1848767400-1848771000@lopbc.org
SUMMARY:Man Camp
DESCRIPTION:Come enjoy a meat-filled meal and fellowship with the men of the church. Occurs every 1st Tuesday.
URL:https://lopbc.org/church_event/man-camp/2028-08-01/
LOCATION:Fellowship Hall\, 9046 FM729\, Avinger\, TX\, 75630
CATEGORIES:Community,Men's Ministry
END:VEVENT
BEGIN:VEVENT
DTSTART;TZID=America/Chicago:20280802T180000
DTEND;TZID=America/Chicago:20280802T183000
DTSTAMP:20260423T184037
CREATED:20250130T214435Z
LAST-MODIFIED:20260222T204211Z
UID:10002926-1848852000-1848853800@lopbc.org
SUMMARY:Family Night Meal
DESCRIPTION:
URL:https://lopbc.org/church_event/family-night-meal/2028-08-02/
LOCATION:Fellowship Hall\, 9046 FM729\, Avinger\, TX\, 75630
CATEGORIES:Church-wide,Community
END:VEVENT
BEGIN:VEVENT
DTSTART;TZID=America/Chicago:20280809T180000
DTEND;TZID=America/Chicago:20280809T183000
DTSTAMP:20260423T184037
CREATED:20250130T214435Z
LAST-MODIFIED:20260222T204211Z
UID:10002927-1849456800-1849458600@lopbc.org
SUMMARY:Family Night Meal
DESCRIPTION:
URL:https://lopbc.org/church_event/family-night-meal/2028-08-09/
LOCATION:Fellowship Hall\, 9046 FM729\, Avinger\, TX\, 75630
CATEGORIES:Church-wide,Community
END:VEVENT
BEGIN:VEVENT
DTSTART;TZID=America/Chicago:20280816T180000
DTEND;TZID=America/Chicago:20280816T183000
DTSTAMP:20260423T184037
CREATED:20250130T214435Z
LAST-MODIFIED:20260222T204211Z
UID:10002928-1850061600-1850063400@lopbc.org
SUMMARY:Family Night Meal
DESCRIPTION:
URL:https://lopbc.org/church_event/family-night-meal/2028-08-16/
LOCATION:Fellowship Hall\, 9046 FM729\, Avinger\, TX\, 75630
CATEGORIES:Church-wide,Community
END:VEVENT
BEGIN:VEVENT
DTSTART;TZID=America/Chicago:20280819T080000
DTEND;TZID=America/Chicago:20280819T090000
DTSTAMP:20260423T184037
CREATED:20240225T221030Z
LAST-MODIFIED:20250130T231350Z
UID:10000182-1850284800-1850288400@lopbc.org
SUMMARY:Men's Breakfast
DESCRIPTION:Fellowship with men every third Saturday at 8:00AM. Enjoy a manly feast of bacon\, eggs\, sausage\, biscuits and gravy and more!
URL:https://lopbc.org/church_event/mens-breakfast/2028-08-19/
LOCATION:Fellowship Hall\, 9046 FM729\, Avinger\, TX\, 75630
CATEGORIES:Men's Ministry
ATTACH;FMTTYPE=image/jpeg:https://lopbc.org/wp-content/uploads/2024/02/pexels-athena-2961957-scaled.jpg
END:VEVENT
BEGIN:VEVENT
DTSTART;TZID=America/Chicago:20280823T180000
DTEND;TZID=America/Chicago:20280823T183000
DTSTAMP:20260423T184037
CREATED:20250130T214435Z
LAST-MODIFIED:20260222T204211Z
UID:10002929-1850666400-1850668200@lopbc.org
SUMMARY:Family Night Meal
DESCRIPTION:
URL:https://lopbc.org/church_event/family-night-meal/2028-08-23/
LOCATION:Fellowship Hall\, 9046 FM729\, Avinger\, TX\, 75630
CATEGORIES:Church-wide,Community
END:VEVENT
BEGIN:VEVENT
DTSTART;TZID=America/Chicago:20280830T180000
DTEND;TZID=America/Chicago:20280830T183000
DTSTAMP:20260423T184037
CREATED:20250130T214435Z
LAST-MODIFIED:20260222T204211Z
UID:10002930-1851271200-1851273000@lopbc.org
SUMMARY:Family Night Meal
DESCRIPTION:
URL:https://lopbc.org/church_event/family-night-meal/2028-08-30/
LOCATION:Fellowship Hall\, 9046 FM729\, Avinger\, TX\, 75630
CATEGORIES:Church-wide,Community
END:VEVENT
BEGIN:VEVENT
DTSTART;TZID=America/Chicago:20280905T183000
DTEND;TZID=America/Chicago:20280905T193000
DTSTAMP:20260423T184037
CREATED:20240925T131838Z
LAST-MODIFIED:20240925T133039Z
UID:10001243-1851791400-1851795000@lopbc.org
SUMMARY:Man Camp
DESCRIPTION:Come enjoy a meat-filled meal and fellowship with the men of the church. Occurs every 1st Tuesday.
URL:https://lopbc.org/church_event/man-camp/2028-09-05/
LOCATION:Fellowship Hall\, 9046 FM729\, Avinger\, TX\, 75630
CATEGORIES:Community,Men's Ministry
END:VEVENT
BEGIN:VEVENT
DTSTART;TZID=America/Chicago:20280906T180000
DTEND;TZID=America/Chicago:20280906T183000
DTSTAMP:20260423T184037
CREATED:20250130T214435Z
LAST-MODIFIED:20260222T204211Z
UID:10002931-1851876000-1851877800@lopbc.org
SUMMARY:Family Night Meal
DESCRIPTION:
URL:https://lopbc.org/church_event/family-night-meal/2028-09-06/
LOCATION:Fellowship Hall\, 9046 FM729\, Avinger\, TX\, 75630
CATEGORIES:Church-wide,Community
END:VEVENT
BEGIN:VEVENT
DTSTART;TZID=America/Chicago:20280913T180000
DTEND;TZID=America/Chicago:20280913T183000
DTSTAMP:20260423T184037
CREATED:20250130T214435Z
LAST-MODIFIED:20260222T204211Z
UID:10002932-1852480800-1852482600@lopbc.org
SUMMARY:Family Night Meal
DESCRIPTION:
URL:https://lopbc.org/church_event/family-night-meal/2028-09-13/
LOCATION:Fellowship Hall\, 9046 FM729\, Avinger\, TX\, 75630
CATEGORIES:Church-wide,Community
END:VEVENT
BEGIN:VEVENT
DTSTART;TZID=America/Chicago:20280916T080000
DTEND;TZID=America/Chicago:20280916T090000
DTSTAMP:20260423T184037
CREATED:20240225T221030Z
LAST-MODIFIED:20250130T231350Z
UID:10000183-1852704000-1852707600@lopbc.org
SUMMARY:Men's Breakfast
DESCRIPTION:Fellowship with men every third Saturday at 8:00AM. Enjoy a manly feast of bacon\, eggs\, sausage\, biscuits and gravy and more!
URL:https://lopbc.org/church_event/mens-breakfast/2028-09-16/
LOCATION:Fellowship Hall\, 9046 FM729\, Avinger\, TX\, 75630
CATEGORIES:Men's Ministry
ATTACH;FMTTYPE=image/jpeg:https://lopbc.org/wp-content/uploads/2024/02/pexels-athena-2961957-scaled.jpg
END:VEVENT
BEGIN:VEVENT
DTSTART;TZID=America/Chicago:20280920T180000
DTEND;TZID=America/Chicago:20280920T183000
DTSTAMP:20260423T184037
CREATED:20250130T214435Z
LAST-MODIFIED:20260222T204211Z
UID:10002933-1853085600-1853087400@lopbc.org
SUMMARY:Family Night Meal
DESCRIPTION:
URL:https://lopbc.org/church_event/family-night-meal/2028-09-20/
LOCATION:Fellowship Hall\, 9046 FM729\, Avinger\, TX\, 75630
CATEGORIES:Church-wide,Community
END:VEVENT
BEGIN:VEVENT
DTSTART;TZID=America/Chicago:20280927T180000
DTEND;TZID=America/Chicago:20280927T183000
DTSTAMP:20260423T184037
CREATED:20250130T214435Z
LAST-MODIFIED:20260222T204211Z
UID:10002934-1853690400-1853692200@lopbc.org
SUMMARY:Family Night Meal
DESCRIPTION:
URL:https://lopbc.org/church_event/family-night-meal/2028-09-27/
LOCATION:Fellowship Hall\, 9046 FM729\, Avinger\, TX\, 75630
CATEGORIES:Church-wide,Community
END:VEVENT
BEGIN:VEVENT
DTSTART;TZID=America/Chicago:20281003T183000
DTEND;TZID=America/Chicago:20281003T193000
DTSTAMP:20260423T184037
CREATED:20240925T131838Z
LAST-MODIFIED:20240925T133039Z
UID:10001244-1854210600-1854214200@lopbc.org
SUMMARY:Man Camp
DESCRIPTION:Come enjoy a meat-filled meal and fellowship with the men of the church. Occurs every 1st Tuesday.
URL:https://lopbc.org/church_event/man-camp/2028-10-03/
LOCATION:Fellowship Hall\, 9046 FM729\, Avinger\, TX\, 75630
CATEGORIES:Community,Men's Ministry
END:VEVENT
BEGIN:VEVENT
DTSTART;TZID=America/Chicago:20281004T180000
DTEND;TZID=America/Chicago:20281004T183000
DTSTAMP:20260423T184037
CREATED:20250130T214435Z
LAST-MODIFIED:20260222T204211Z
UID:10002935-1854295200-1854297000@lopbc.org
SUMMARY:Family Night Meal
DESCRIPTION:
URL:https://lopbc.org/church_event/family-night-meal/2028-10-04/
LOCATION:Fellowship Hall\, 9046 FM729\, Avinger\, TX\, 75630
CATEGORIES:Church-wide,Community
END:VEVENT
BEGIN:VEVENT
DTSTART;TZID=America/Chicago:20281011T180000
DTEND;TZID=America/Chicago:20281011T183000
DTSTAMP:20260423T184037
CREATED:20250130T214435Z
LAST-MODIFIED:20260222T204211Z
UID:10002936-1854900000-1854901800@lopbc.org
SUMMARY:Family Night Meal
DESCRIPTION:
URL:https://lopbc.org/church_event/family-night-meal/2028-10-11/
LOCATION:Fellowship Hall\, 9046 FM729\, Avinger\, TX\, 75630
CATEGORIES:Church-wide,Community
END:VEVENT
BEGIN:VEVENT
DTSTART;TZID=America/Chicago:20281018T180000
DTEND;TZID=America/Chicago:20281018T183000
DTSTAMP:20260423T184037
CREATED:20250130T214435Z
LAST-MODIFIED:20260222T204211Z
UID:10002937-1855504800-1855506600@lopbc.org
SUMMARY:Family Night Meal
DESCRIPTION:
URL:https://lopbc.org/church_event/family-night-meal/2028-10-18/
LOCATION:Fellowship Hall\, 9046 FM729\, Avinger\, TX\, 75630
CATEGORIES:Church-wide,Community
END:VEVENT
BEGIN:VEVENT
DTSTART;TZID=America/Chicago:20281021T080000
DTEND;TZID=America/Chicago:20281021T090000
DTSTAMP:20260423T184037
CREATED:20240225T221030Z
LAST-MODIFIED:20250130T231350Z
UID:10000184-1855728000-1855731600@lopbc.org
SUMMARY:Men's Breakfast
DESCRIPTION:Fellowship with men every third Saturday at 8:00AM. Enjoy a manly feast of bacon\, eggs\, sausage\, biscuits and gravy and more!
URL:https://lopbc.org/church_event/mens-breakfast/2028-10-21/
LOCATION:Fellowship Hall\, 9046 FM729\, Avinger\, TX\, 75630
CATEGORIES:Men's Ministry
ATTACH;FMTTYPE=image/jpeg:https://lopbc.org/wp-content/uploads/2024/02/pexels-athena-2961957-scaled.jpg
END:VEVENT
BEGIN:VEVENT
DTSTART;TZID=America/Chicago:20281025T180000
DTEND;TZID=America/Chicago:20281025T183000
DTSTAMP:20260423T184037
CREATED:20250130T214435Z
LAST-MODIFIED:20260222T204211Z
UID:10002938-1856109600-1856111400@lopbc.org
SUMMARY:Family Night Meal
DESCRIPTION:
URL:https://lopbc.org/church_event/family-night-meal/2028-10-25/
LOCATION:Fellowship Hall\, 9046 FM729\, Avinger\, TX\, 75630
CATEGORIES:Church-wide,Community
END:VEVENT
BEGIN:VEVENT
DTSTART;TZID=America/Chicago:20281101T180000
DTEND;TZID=America/Chicago:20281101T183000
DTSTAMP:20260423T184037
CREATED:20250130T214435Z
LAST-MODIFIED:20260222T204211Z
UID:10002939-1856714400-1856716200@lopbc.org
SUMMARY:Family Night Meal
DESCRIPTION:
URL:https://lopbc.org/church_event/family-night-meal/2028-11-01/
LOCATION:Fellowship Hall\, 9046 FM729\, Avinger\, TX\, 75630
CATEGORIES:Church-wide,Community
END:VEVENT
BEGIN:VEVENT
DTSTART;TZID=America/Chicago:20281107T183000
DTEND;TZID=America/Chicago:20281107T193000
DTSTAMP:20260423T184037
CREATED:20240925T131838Z
LAST-MODIFIED:20240925T133039Z
UID:10001245-1857234600-1857238200@lopbc.org
SUMMARY:Man Camp
DESCRIPTION:Come enjoy a meat-filled meal and fellowship with the men of the church. Occurs every 1st Tuesday.
URL:https://lopbc.org/church_event/man-camp/2028-11-07/
LOCATION:Fellowship Hall\, 9046 FM729\, Avinger\, TX\, 75630
CATEGORIES:Community,Men's Ministry
END:VEVENT
BEGIN:VEVENT
DTSTART;TZID=America/Chicago:20281108T180000
DTEND;TZID=America/Chicago:20281108T183000
DTSTAMP:20260423T184037
CREATED:20250130T214435Z
LAST-MODIFIED:20260222T204211Z
UID:10002940-1857319200-1857321000@lopbc.org
SUMMARY:Family Night Meal
DESCRIPTION:
URL:https://lopbc.org/church_event/family-night-meal/2028-11-08/
LOCATION:Fellowship Hall\, 9046 FM729\, Avinger\, TX\, 75630
CATEGORIES:Church-wide,Community
END:VEVENT
BEGIN:VEVENT
DTSTART;TZID=America/Chicago:20281115T180000
DTEND;TZID=America/Chicago:20281115T183000
DTSTAMP:20260423T184037
CREATED:20250130T214435Z
LAST-MODIFIED:20260222T204211Z
UID:10002941-1857924000-1857925800@lopbc.org
SUMMARY:Family Night Meal
DESCRIPTION:
URL:https://lopbc.org/church_event/family-night-meal/2028-11-15/
LOCATION:Fellowship Hall\, 9046 FM729\, Avinger\, TX\, 75630
CATEGORIES:Church-wide,Community
END:VEVENT
BEGIN:VEVENT
DTSTART;TZID=America/Chicago:20281118T080000
DTEND;TZID=America/Chicago:20281118T090000
DTSTAMP:20260423T184037
CREATED:20240225T221030Z
LAST-MODIFIED:20250130T231350Z
UID:10000185-1858147200-1858150800@lopbc.org
SUMMARY:Men's Breakfast
DESCRIPTION:Fellowship with men every third Saturday at 8:00AM. Enjoy a manly feast of bacon\, eggs\, sausage\, biscuits and gravy and more!
URL:https://lopbc.org/church_event/mens-breakfast/2028-11-18/
LOCATION:Fellowship Hall\, 9046 FM729\, Avinger\, TX\, 75630
CATEGORIES:Men's Ministry
ATTACH;FMTTYPE=image/jpeg:https://lopbc.org/wp-content/uploads/2024/02/pexels-athena-2961957-scaled.jpg
END:VEVENT
BEGIN:VEVENT
DTSTART;TZID=America/Chicago:20281122T180000
DTEND;TZID=America/Chicago:20281122T183000
DTSTAMP:20260423T184037
CREATED:20250130T214435Z
LAST-MODIFIED:20260222T204211Z
UID:10002942-1858528800-1858530600@lopbc.org
SUMMARY:Family Night Meal
DESCRIPTION:
URL:https://lopbc.org/church_event/family-night-meal/2028-11-22/
LOCATION:Fellowship Hall\, 9046 FM729\, Avinger\, TX\, 75630
CATEGORIES:Church-wide,Community
END:VEVENT
BEGIN:VEVENT
DTSTART;TZID=America/Chicago:20281129T180000
DTEND;TZID=America/Chicago:20281129T183000
DTSTAMP:20260423T184037
CREATED:20250130T214435Z
LAST-MODIFIED:20260222T204211Z
UID:10002943-1859133600-1859135400@lopbc.org
SUMMARY:Family Night Meal
DESCRIPTION:
URL:https://lopbc.org/church_event/family-night-meal/2028-11-29/
LOCATION:Fellowship Hall\, 9046 FM729\, Avinger\, TX\, 75630
CATEGORIES:Church-wide,Community
END:VEVENT
BEGIN:VEVENT
DTSTART;TZID=America/Chicago:20281205T183000
DTEND;TZID=America/Chicago:20281205T193000
DTSTAMP:20260423T184037
CREATED:20240925T131838Z
LAST-MODIFIED:20240925T133039Z
UID:10001246-1859653800-1859657400@lopbc.org
SUMMARY:Man Camp
DESCRIPTION:Come enjoy a meat-filled meal and fellowship with the men of the church. Occurs every 1st Tuesday.
URL:https://lopbc.org/church_event/man-camp/2028-12-05/
LOCATION:Fellowship Hall\, 9046 FM729\, Avinger\, TX\, 75630
CATEGORIES:Community,Men's Ministry
END:VEVENT
BEGIN:VEVENT
DTSTART;TZID=America/Chicago:20281206T180000
DTEND;TZID=America/Chicago:20281206T183000
DTSTAMP:20260423T184037
CREATED:20250130T214435Z
LAST-MODIFIED:20260222T204211Z
UID:10002944-1859738400-1859740200@lopbc.org
SUMMARY:Family Night Meal
DESCRIPTION:
URL:https://lopbc.org/church_event/family-night-meal/2028-12-06/
LOCATION:Fellowship Hall\, 9046 FM729\, Avinger\, TX\, 75630
CATEGORIES:Church-wide,Community
END:VEVENT
BEGIN:VEVENT
DTSTART;TZID=America/Chicago:20281213T180000
DTEND;TZID=America/Chicago:20281213T183000
DTSTAMP:20260423T184037
CREATED:20250130T214435Z
LAST-MODIFIED:20260222T204211Z
UID:10002945-1860343200-1860345000@lopbc.org
SUMMARY:Family Night Meal
DESCRIPTION:
URL:https://lopbc.org/church_event/family-night-meal/2028-12-13/
LOCATION:Fellowship Hall\, 9046 FM729\, Avinger\, TX\, 75630
CATEGORIES:Church-wide,Community
END:VEVENT
END:VCALENDAR