BEGIN:VCALENDAR
VERSION:2.0
PRODID:-//Lake O&#039; The Pines Baptist Church - ECPv6.15.20//NONSGML v1.0//EN
CALSCALE:GREGORIAN
METHOD:PUBLISH
X-ORIGINAL-URL:https://lopbc.org
X-WR-CALDESC:Events for Lake O&#039; The Pines Baptist Church
REFRESH-INTERVAL;VALUE=DURATION:PT1H
X-Robots-Tag:noindex
X-PUBLISHED-TTL:PT1H
BEGIN:VTIMEZONE
TZID:America/Chicago
BEGIN:DAYLIGHT
TZOFFSETFROM:-0600
TZOFFSETTO:-0500
TZNAME:CDT
DTSTART:20280312T080000
END:DAYLIGHT
BEGIN:STANDARD
TZOFFSETFROM:-0500
TZOFFSETTO:-0600
TZNAME:CST
DTSTART:20281105T070000
END:STANDARD
BEGIN:DAYLIGHT
TZOFFSETFROM:-0600
TZOFFSETTO:-0500
TZNAME:CDT
DTSTART:20290311T080000
END:DAYLIGHT
BEGIN:STANDARD
TZOFFSETFROM:-0500
TZOFFSETTO:-0600
TZNAME:CST
DTSTART:20291104T070000
END:STANDARD
BEGIN:DAYLIGHT
TZOFFSETFROM:-0600
TZOFFSETTO:-0500
TZNAME:CDT
DTSTART:20300310T080000
END:DAYLIGHT
BEGIN:STANDARD
TZOFFSETFROM:-0500
TZOFFSETTO:-0600
TZNAME:CST
DTSTART:20301103T070000
END:STANDARD
END:VTIMEZONE
BEGIN:VEVENT
DTSTART;TZID=America/Chicago:20290509T180000
DTEND;TZID=America/Chicago:20290509T183000
DTSTAMP:20260424T003144
CREATED:20250130T214435Z
LAST-MODIFIED:20260222T204211Z
UID:10002966-1873044000-1873045800@lopbc.org
SUMMARY:Family Night Meal
DESCRIPTION:
URL:https://lopbc.org/church_event/family-night-meal/2029-05-09/
LOCATION:Fellowship Hall\, 9046 FM729\, Avinger\, TX\, 75630
CATEGORIES:Church-wide,Community
END:VEVENT
BEGIN:VEVENT
DTSTART;TZID=America/Chicago:20290516T180000
DTEND;TZID=America/Chicago:20290516T183000
DTSTAMP:20260424T003144
CREATED:20250130T214435Z
LAST-MODIFIED:20260222T204211Z
UID:10002967-1873648800-1873650600@lopbc.org
SUMMARY:Family Night Meal
DESCRIPTION:
URL:https://lopbc.org/church_event/family-night-meal/2029-05-16/
LOCATION:Fellowship Hall\, 9046 FM729\, Avinger\, TX\, 75630
CATEGORIES:Church-wide,Community
END:VEVENT
BEGIN:VEVENT
DTSTART;TZID=America/Chicago:20290519T080000
DTEND;TZID=America/Chicago:20290519T090000
DTSTAMP:20260424T003144
CREATED:20240225T221030Z
LAST-MODIFIED:20250130T231350Z
UID:10003312-1873872000-1873875600@lopbc.org
SUMMARY:Men's Breakfast
DESCRIPTION:Fellowship with men every third Saturday at 8:00AM. Enjoy a manly feast of bacon\, eggs\, sausage\, biscuits and gravy and more!
URL:https://lopbc.org/church_event/mens-breakfast/2029-05-19/
LOCATION:Fellowship Hall\, 9046 FM729\, Avinger\, TX\, 75630
CATEGORIES:Men's Ministry
ATTACH;FMTTYPE=image/jpeg:https://lopbc.org/wp-content/uploads/2024/02/pexels-athena-2961957-scaled.jpg
END:VEVENT
BEGIN:VEVENT
DTSTART;TZID=America/Chicago:20290523T180000
DTEND;TZID=America/Chicago:20290523T183000
DTSTAMP:20260424T003144
CREATED:20250130T214435Z
LAST-MODIFIED:20260222T204211Z
UID:10002968-1874253600-1874255400@lopbc.org
SUMMARY:Family Night Meal
DESCRIPTION:
URL:https://lopbc.org/church_event/family-night-meal/2029-05-23/
LOCATION:Fellowship Hall\, 9046 FM729\, Avinger\, TX\, 75630
CATEGORIES:Church-wide,Community
END:VEVENT
BEGIN:VEVENT
DTSTART;TZID=America/Chicago:20290530T180000
DTEND;TZID=America/Chicago:20290530T183000
DTSTAMP:20260424T003144
CREATED:20250130T214435Z
LAST-MODIFIED:20260222T204211Z
UID:10002969-1874858400-1874860200@lopbc.org
SUMMARY:Family Night Meal
DESCRIPTION:
URL:https://lopbc.org/church_event/family-night-meal/2029-05-30/
LOCATION:Fellowship Hall\, 9046 FM729\, Avinger\, TX\, 75630
CATEGORIES:Church-wide,Community
END:VEVENT
BEGIN:VEVENT
DTSTART;TZID=America/Chicago:20290605T183000
DTEND;TZID=America/Chicago:20290605T193000
DTSTAMP:20260424T003144
CREATED:20240925T131838Z
LAST-MODIFIED:20240925T133039Z
UID:10001252-1875378600-1875382200@lopbc.org
SUMMARY:Man Camp
DESCRIPTION:Come enjoy a meat-filled meal and fellowship with the men of the church. Occurs every 1st Tuesday.
URL:https://lopbc.org/church_event/man-camp/2029-06-05/
LOCATION:Fellowship Hall\, 9046 FM729\, Avinger\, TX\, 75630
CATEGORIES:Community,Men's Ministry
END:VEVENT
BEGIN:VEVENT
DTSTART;TZID=America/Chicago:20290606T180000
DTEND;TZID=America/Chicago:20290606T183000
DTSTAMP:20260424T003144
CREATED:20250130T214435Z
LAST-MODIFIED:20260222T204211Z
UID:10002970-1875463200-1875465000@lopbc.org
SUMMARY:Family Night Meal
DESCRIPTION:
URL:https://lopbc.org/church_event/family-night-meal/2029-06-06/
LOCATION:Fellowship Hall\, 9046 FM729\, Avinger\, TX\, 75630
CATEGORIES:Church-wide,Community
END:VEVENT
BEGIN:VEVENT
DTSTART;TZID=America/Chicago:20290613T180000
DTEND;TZID=America/Chicago:20290613T183000
DTSTAMP:20260424T003144
CREATED:20250130T214435Z
LAST-MODIFIED:20260222T204211Z
UID:10002971-1876068000-1876069800@lopbc.org
SUMMARY:Family Night Meal
DESCRIPTION:
URL:https://lopbc.org/church_event/family-night-meal/2029-06-13/
LOCATION:Fellowship Hall\, 9046 FM729\, Avinger\, TX\, 75630
CATEGORIES:Church-wide,Community
END:VEVENT
BEGIN:VEVENT
DTSTART;TZID=America/Chicago:20290616T080000
DTEND;TZID=America/Chicago:20290616T090000
DTSTAMP:20260424T003144
CREATED:20240225T221030Z
LAST-MODIFIED:20250130T231350Z
UID:10003313-1876291200-1876294800@lopbc.org
SUMMARY:Men's Breakfast
DESCRIPTION:Fellowship with men every third Saturday at 8:00AM. Enjoy a manly feast of bacon\, eggs\, sausage\, biscuits and gravy and more!
URL:https://lopbc.org/church_event/mens-breakfast/2029-06-16/
LOCATION:Fellowship Hall\, 9046 FM729\, Avinger\, TX\, 75630
CATEGORIES:Men's Ministry
ATTACH;FMTTYPE=image/jpeg:https://lopbc.org/wp-content/uploads/2024/02/pexels-athena-2961957-scaled.jpg
END:VEVENT
BEGIN:VEVENT
DTSTART;TZID=America/Chicago:20290620T180000
DTEND;TZID=America/Chicago:20290620T183000
DTSTAMP:20260424T003144
CREATED:20250130T214435Z
LAST-MODIFIED:20260222T204211Z
UID:10002972-1876672800-1876674600@lopbc.org
SUMMARY:Family Night Meal
DESCRIPTION:
URL:https://lopbc.org/church_event/family-night-meal/2029-06-20/
LOCATION:Fellowship Hall\, 9046 FM729\, Avinger\, TX\, 75630
CATEGORIES:Church-wide,Community
END:VEVENT
BEGIN:VEVENT
DTSTART;TZID=America/Chicago:20290627T180000
DTEND;TZID=America/Chicago:20290627T183000
DTSTAMP:20260424T003144
CREATED:20250130T214435Z
LAST-MODIFIED:20260222T204211Z
UID:10002973-1877277600-1877279400@lopbc.org
SUMMARY:Family Night Meal
DESCRIPTION:
URL:https://lopbc.org/church_event/family-night-meal/2029-06-27/
LOCATION:Fellowship Hall\, 9046 FM729\, Avinger\, TX\, 75630
CATEGORIES:Church-wide,Community
END:VEVENT
BEGIN:VEVENT
DTSTART;TZID=America/Chicago:20290703T183000
DTEND;TZID=America/Chicago:20290703T193000
DTSTAMP:20260424T003144
CREATED:20240925T131838Z
LAST-MODIFIED:20240925T133039Z
UID:10001253-1877797800-1877801400@lopbc.org
SUMMARY:Man Camp
DESCRIPTION:Come enjoy a meat-filled meal and fellowship with the men of the church. Occurs every 1st Tuesday.
URL:https://lopbc.org/church_event/man-camp/2029-07-03/
LOCATION:Fellowship Hall\, 9046 FM729\, Avinger\, TX\, 75630
CATEGORIES:Community,Men's Ministry
END:VEVENT
BEGIN:VEVENT
DTSTART;TZID=America/Chicago:20290704T180000
DTEND;TZID=America/Chicago:20290704T183000
DTSTAMP:20260424T003144
CREATED:20250130T214435Z
LAST-MODIFIED:20260222T204211Z
UID:10002974-1877882400-1877884200@lopbc.org
SUMMARY:Family Night Meal
DESCRIPTION:
URL:https://lopbc.org/church_event/family-night-meal/2029-07-04/
LOCATION:Fellowship Hall\, 9046 FM729\, Avinger\, TX\, 75630
CATEGORIES:Church-wide,Community
END:VEVENT
BEGIN:VEVENT
DTSTART;TZID=America/Chicago:20290711T180000
DTEND;TZID=America/Chicago:20290711T183000
DTSTAMP:20260424T003144
CREATED:20250130T214435Z
LAST-MODIFIED:20260222T204211Z
UID:10002975-1878487200-1878489000@lopbc.org
SUMMARY:Family Night Meal
DESCRIPTION:
URL:https://lopbc.org/church_event/family-night-meal/2029-07-11/
LOCATION:Fellowship Hall\, 9046 FM729\, Avinger\, TX\, 75630
CATEGORIES:Church-wide,Community
END:VEVENT
BEGIN:VEVENT
DTSTART;TZID=America/Chicago:20290718T180000
DTEND;TZID=America/Chicago:20290718T183000
DTSTAMP:20260424T003144
CREATED:20250130T214435Z
LAST-MODIFIED:20260222T204211Z
UID:10002976-1879092000-1879093800@lopbc.org
SUMMARY:Family Night Meal
DESCRIPTION:
URL:https://lopbc.org/church_event/family-night-meal/2029-07-18/
LOCATION:Fellowship Hall\, 9046 FM729\, Avinger\, TX\, 75630
CATEGORIES:Church-wide,Community
END:VEVENT
BEGIN:VEVENT
DTSTART;TZID=America/Chicago:20290721T080000
DTEND;TZID=America/Chicago:20290721T090000
DTSTAMP:20260424T003144
CREATED:20240225T221030Z
LAST-MODIFIED:20250130T231350Z
UID:10003314-1879315200-1879318800@lopbc.org
SUMMARY:Men's Breakfast
DESCRIPTION:Fellowship with men every third Saturday at 8:00AM. Enjoy a manly feast of bacon\, eggs\, sausage\, biscuits and gravy and more!
URL:https://lopbc.org/church_event/mens-breakfast/2029-07-21/
LOCATION:Fellowship Hall\, 9046 FM729\, Avinger\, TX\, 75630
CATEGORIES:Men's Ministry
ATTACH;FMTTYPE=image/jpeg:https://lopbc.org/wp-content/uploads/2024/02/pexels-athena-2961957-scaled.jpg
END:VEVENT
BEGIN:VEVENT
DTSTART;TZID=America/Chicago:20290725T180000
DTEND;TZID=America/Chicago:20290725T183000
DTSTAMP:20260424T003144
CREATED:20250130T214435Z
LAST-MODIFIED:20260222T204211Z
UID:10002977-1879696800-1879698600@lopbc.org
SUMMARY:Family Night Meal
DESCRIPTION:
URL:https://lopbc.org/church_event/family-night-meal/2029-07-25/
LOCATION:Fellowship Hall\, 9046 FM729\, Avinger\, TX\, 75630
CATEGORIES:Church-wide,Community
END:VEVENT
BEGIN:VEVENT
DTSTART;TZID=America/Chicago:20290801T180000
DTEND;TZID=America/Chicago:20290801T183000
DTSTAMP:20260424T003144
CREATED:20250130T214435Z
LAST-MODIFIED:20260222T204211Z
UID:10002978-1880301600-1880303400@lopbc.org
SUMMARY:Family Night Meal
DESCRIPTION:
URL:https://lopbc.org/church_event/family-night-meal/2029-08-01/
LOCATION:Fellowship Hall\, 9046 FM729\, Avinger\, TX\, 75630
CATEGORIES:Church-wide,Community
END:VEVENT
BEGIN:VEVENT
DTSTART;TZID=America/Chicago:20290807T183000
DTEND;TZID=America/Chicago:20290807T193000
DTSTAMP:20260424T003144
CREATED:20240925T131838Z
LAST-MODIFIED:20240925T133039Z
UID:10001254-1880821800-1880825400@lopbc.org
SUMMARY:Man Camp
DESCRIPTION:Come enjoy a meat-filled meal and fellowship with the men of the church. Occurs every 1st Tuesday.
URL:https://lopbc.org/church_event/man-camp/2029-08-07/
LOCATION:Fellowship Hall\, 9046 FM729\, Avinger\, TX\, 75630
CATEGORIES:Community,Men's Ministry
END:VEVENT
BEGIN:VEVENT
DTSTART;TZID=America/Chicago:20290808T180000
DTEND;TZID=America/Chicago:20290808T183000
DTSTAMP:20260424T003144
CREATED:20250130T214435Z
LAST-MODIFIED:20260222T204211Z
UID:10002979-1880906400-1880908200@lopbc.org
SUMMARY:Family Night Meal
DESCRIPTION:
URL:https://lopbc.org/church_event/family-night-meal/2029-08-08/
LOCATION:Fellowship Hall\, 9046 FM729\, Avinger\, TX\, 75630
CATEGORIES:Church-wide,Community
END:VEVENT
BEGIN:VEVENT
DTSTART;TZID=America/Chicago:20290815T180000
DTEND;TZID=America/Chicago:20290815T183000
DTSTAMP:20260424T003144
CREATED:20250130T214435Z
LAST-MODIFIED:20260222T204211Z
UID:10002980-1881511200-1881513000@lopbc.org
SUMMARY:Family Night Meal
DESCRIPTION:
URL:https://lopbc.org/church_event/family-night-meal/2029-08-15/
LOCATION:Fellowship Hall\, 9046 FM729\, Avinger\, TX\, 75630
CATEGORIES:Church-wide,Community
END:VEVENT
BEGIN:VEVENT
DTSTART;TZID=America/Chicago:20290818T080000
DTEND;TZID=America/Chicago:20290818T090000
DTSTAMP:20260424T003144
CREATED:20240225T221030Z
LAST-MODIFIED:20250130T231350Z
UID:10003315-1881734400-1881738000@lopbc.org
SUMMARY:Men's Breakfast
DESCRIPTION:Fellowship with men every third Saturday at 8:00AM. Enjoy a manly feast of bacon\, eggs\, sausage\, biscuits and gravy and more!
URL:https://lopbc.org/church_event/mens-breakfast/2029-08-18/
LOCATION:Fellowship Hall\, 9046 FM729\, Avinger\, TX\, 75630
CATEGORIES:Men's Ministry
ATTACH;FMTTYPE=image/jpeg:https://lopbc.org/wp-content/uploads/2024/02/pexels-athena-2961957-scaled.jpg
END:VEVENT
BEGIN:VEVENT
DTSTART;TZID=America/Chicago:20290822T180000
DTEND;TZID=America/Chicago:20290822T183000
DTSTAMP:20260424T003144
CREATED:20250130T214435Z
LAST-MODIFIED:20260222T204211Z
UID:10002981-1882116000-1882117800@lopbc.org
SUMMARY:Family Night Meal
DESCRIPTION:
URL:https://lopbc.org/church_event/family-night-meal/2029-08-22/
LOCATION:Fellowship Hall\, 9046 FM729\, Avinger\, TX\, 75630
CATEGORIES:Church-wide,Community
END:VEVENT
BEGIN:VEVENT
DTSTART;TZID=America/Chicago:20290829T180000
DTEND;TZID=America/Chicago:20290829T183000
DTSTAMP:20260424T003144
CREATED:20250130T214435Z
LAST-MODIFIED:20260222T204211Z
UID:10002982-1882720800-1882722600@lopbc.org
SUMMARY:Family Night Meal
DESCRIPTION:
URL:https://lopbc.org/church_event/family-night-meal/2029-08-29/
LOCATION:Fellowship Hall\, 9046 FM729\, Avinger\, TX\, 75630
CATEGORIES:Church-wide,Community
END:VEVENT
BEGIN:VEVENT
DTSTART;TZID=America/Chicago:20290904T183000
DTEND;TZID=America/Chicago:20290904T193000
DTSTAMP:20260424T003144
CREATED:20240925T131838Z
LAST-MODIFIED:20240925T133039Z
UID:10001255-1883241000-1883244600@lopbc.org
SUMMARY:Man Camp
DESCRIPTION:Come enjoy a meat-filled meal and fellowship with the men of the church. Occurs every 1st Tuesday.
URL:https://lopbc.org/church_event/man-camp/2029-09-04/
LOCATION:Fellowship Hall\, 9046 FM729\, Avinger\, TX\, 75630
CATEGORIES:Community,Men's Ministry
END:VEVENT
BEGIN:VEVENT
DTSTART;TZID=America/Chicago:20290905T180000
DTEND;TZID=America/Chicago:20290905T183000
DTSTAMP:20260424T003144
CREATED:20250130T214435Z
LAST-MODIFIED:20260222T204211Z
UID:10002983-1883325600-1883327400@lopbc.org
SUMMARY:Family Night Meal
DESCRIPTION:
URL:https://lopbc.org/church_event/family-night-meal/2029-09-05/
LOCATION:Fellowship Hall\, 9046 FM729\, Avinger\, TX\, 75630
CATEGORIES:Church-wide,Community
END:VEVENT
BEGIN:VEVENT
DTSTART;TZID=America/Chicago:20290912T180000
DTEND;TZID=America/Chicago:20290912T183000
DTSTAMP:20260424T003144
CREATED:20250130T214435Z
LAST-MODIFIED:20260222T204211Z
UID:10002984-1883930400-1883932200@lopbc.org
SUMMARY:Family Night Meal
DESCRIPTION:
URL:https://lopbc.org/church_event/family-night-meal/2029-09-12/
LOCATION:Fellowship Hall\, 9046 FM729\, Avinger\, TX\, 75630
CATEGORIES:Church-wide,Community
END:VEVENT
BEGIN:VEVENT
DTSTART;TZID=America/Chicago:20290915T080000
DTEND;TZID=America/Chicago:20290915T090000
DTSTAMP:20260424T003144
CREATED:20240225T221030Z
LAST-MODIFIED:20250130T231350Z
UID:10003316-1884153600-1884157200@lopbc.org
SUMMARY:Men's Breakfast
DESCRIPTION:Fellowship with men every third Saturday at 8:00AM. Enjoy a manly feast of bacon\, eggs\, sausage\, biscuits and gravy and more!
URL:https://lopbc.org/church_event/mens-breakfast/2029-09-15/
LOCATION:Fellowship Hall\, 9046 FM729\, Avinger\, TX\, 75630
CATEGORIES:Men's Ministry
ATTACH;FMTTYPE=image/jpeg:https://lopbc.org/wp-content/uploads/2024/02/pexels-athena-2961957-scaled.jpg
END:VEVENT
BEGIN:VEVENT
DTSTART;TZID=America/Chicago:20290919T180000
DTEND;TZID=America/Chicago:20290919T183000
DTSTAMP:20260424T003144
CREATED:20250130T214435Z
LAST-MODIFIED:20260222T204211Z
UID:10002985-1884535200-1884537000@lopbc.org
SUMMARY:Family Night Meal
DESCRIPTION:
URL:https://lopbc.org/church_event/family-night-meal/2029-09-19/
LOCATION:Fellowship Hall\, 9046 FM729\, Avinger\, TX\, 75630
CATEGORIES:Church-wide,Community
END:VEVENT
BEGIN:VEVENT
DTSTART;TZID=America/Chicago:20290926T180000
DTEND;TZID=America/Chicago:20290926T183000
DTSTAMP:20260424T003144
CREATED:20250130T214435Z
LAST-MODIFIED:20260222T204211Z
UID:10002986-1885140000-1885141800@lopbc.org
SUMMARY:Family Night Meal
DESCRIPTION:
URL:https://lopbc.org/church_event/family-night-meal/2029-09-26/
LOCATION:Fellowship Hall\, 9046 FM729\, Avinger\, TX\, 75630
CATEGORIES:Church-wide,Community
END:VEVENT
END:VCALENDAR