BEGIN:VCALENDAR
VERSION:2.0
PRODID:-//Lake O&#039; The Pines Baptist Church - ECPv6.15.20//NONSGML v1.0//EN
CALSCALE:GREGORIAN
METHOD:PUBLISH
X-WR-CALNAME:Lake O&#039; The Pines Baptist Church
X-ORIGINAL-URL:https://lopbc.org
X-WR-CALDESC:Events for Lake O&#039; The Pines Baptist Church
REFRESH-INTERVAL;VALUE=DURATION:PT1H
X-Robots-Tag:noindex
X-PUBLISHED-TTL:PT1H
BEGIN:VTIMEZONE
TZID:America/Chicago
BEGIN:DAYLIGHT
TZOFFSETFROM:-0600
TZOFFSETTO:-0500
TZNAME:CDT
DTSTART:20250309T080000
END:DAYLIGHT
BEGIN:STANDARD
TZOFFSETFROM:-0500
TZOFFSETTO:-0600
TZNAME:CST
DTSTART:20251102T070000
END:STANDARD
BEGIN:DAYLIGHT
TZOFFSETFROM:-0600
TZOFFSETTO:-0500
TZNAME:CDT
DTSTART:20260308T080000
END:DAYLIGHT
BEGIN:STANDARD
TZOFFSETFROM:-0500
TZOFFSETTO:-0600
TZNAME:CST
DTSTART:20261101T070000
END:STANDARD
BEGIN:DAYLIGHT
TZOFFSETFROM:-0600
TZOFFSETTO:-0500
TZNAME:CDT
DTSTART:20270314T080000
END:DAYLIGHT
BEGIN:STANDARD
TZOFFSETFROM:-0500
TZOFFSETTO:-0600
TZNAME:CST
DTSTART:20271107T070000
END:STANDARD
BEGIN:DAYLIGHT
TZOFFSETFROM:-0600
TZOFFSETTO:-0500
TZNAME:CDT
DTSTART:20280312T080000
END:DAYLIGHT
BEGIN:STANDARD
TZOFFSETFROM:-0500
TZOFFSETTO:-0600
TZNAME:CST
DTSTART:20281105T070000
END:STANDARD
END:VTIMEZONE
BEGIN:VEVENT
DTSTART;TZID=America/Chicago:20261219T080000
DTEND;TZID=America/Chicago:20261219T090000
DTSTAMP:20260423T025352
CREATED:20240225T221030Z
LAST-MODIFIED:20250130T231350Z
UID:10000162-1797667200-1797670800@lopbc.org
SUMMARY:Men's Breakfast
DESCRIPTION:Fellowship with men every third Saturday at 8:00AM. Enjoy a manly feast of bacon\, eggs\, sausage\, biscuits and gravy and more!
URL:https://lopbc.org/church_event/mens-breakfast/2026-12-19/
LOCATION:Fellowship Hall\, 9046 FM729\, Avinger\, TX\, 75630
CATEGORIES:Men's Ministry
ATTACH;FMTTYPE=image/jpeg:https://lopbc.org/wp-content/uploads/2024/02/pexels-athena-2961957-scaled.jpg
END:VEVENT
BEGIN:VEVENT
DTSTART;TZID=America/Chicago:20270105T183000
DTEND;TZID=America/Chicago:20270105T193000
DTSTAMP:20260423T025352
CREATED:20240925T131838Z
LAST-MODIFIED:20240925T133039Z
UID:10001223-1799173800-1799177400@lopbc.org
SUMMARY:Man Camp
DESCRIPTION:Come enjoy a meat-filled meal and fellowship with the men of the church. Occurs every 1st Tuesday.
URL:https://lopbc.org/church_event/man-camp/2027-01-05/
LOCATION:Fellowship Hall\, 9046 FM729\, Avinger\, TX\, 75630
CATEGORIES:Community,Men's Ministry
END:VEVENT
BEGIN:VEVENT
DTSTART;TZID=America/Chicago:20270106T180000
DTEND;TZID=America/Chicago:20270106T183000
DTSTAMP:20260423T025352
CREATED:20250130T214435Z
LAST-MODIFIED:20260222T204211Z
UID:10002844-1799258400-1799260200@lopbc.org
SUMMARY:Family Night Meal
DESCRIPTION:
URL:https://lopbc.org/church_event/family-night-meal/2027-01-06/
LOCATION:Fellowship Hall\, 9046 FM729\, Avinger\, TX\, 75630
CATEGORIES:Church-wide,Community
END:VEVENT
BEGIN:VEVENT
DTSTART;TZID=America/Chicago:20270113T180000
DTEND;TZID=America/Chicago:20270113T183000
DTSTAMP:20260423T025352
CREATED:20250130T214435Z
LAST-MODIFIED:20260222T204211Z
UID:10002845-1799863200-1799865000@lopbc.org
SUMMARY:Family Night Meal
DESCRIPTION:
URL:https://lopbc.org/church_event/family-night-meal/2027-01-13/
LOCATION:Fellowship Hall\, 9046 FM729\, Avinger\, TX\, 75630
CATEGORIES:Church-wide,Community
END:VEVENT
BEGIN:VEVENT
DTSTART;TZID=America/Chicago:20270116T080000
DTEND;TZID=America/Chicago:20270116T090000
DTSTAMP:20260423T025352
CREATED:20240225T221030Z
LAST-MODIFIED:20250130T231350Z
UID:10000163-1800086400-1800090000@lopbc.org
SUMMARY:Men's Breakfast
DESCRIPTION:Fellowship with men every third Saturday at 8:00AM. Enjoy a manly feast of bacon\, eggs\, sausage\, biscuits and gravy and more!
URL:https://lopbc.org/church_event/mens-breakfast/2027-01-16/
LOCATION:Fellowship Hall\, 9046 FM729\, Avinger\, TX\, 75630
CATEGORIES:Men's Ministry
ATTACH;FMTTYPE=image/jpeg:https://lopbc.org/wp-content/uploads/2024/02/pexels-athena-2961957-scaled.jpg
END:VEVENT
BEGIN:VEVENT
DTSTART;TZID=America/Chicago:20270120T180000
DTEND;TZID=America/Chicago:20270120T183000
DTSTAMP:20260423T025352
CREATED:20250130T214435Z
LAST-MODIFIED:20260222T204211Z
UID:10002846-1800468000-1800469800@lopbc.org
SUMMARY:Family Night Meal
DESCRIPTION:
URL:https://lopbc.org/church_event/family-night-meal/2027-01-20/
LOCATION:Fellowship Hall\, 9046 FM729\, Avinger\, TX\, 75630
CATEGORIES:Church-wide,Community
END:VEVENT
BEGIN:VEVENT
DTSTART;TZID=America/Chicago:20270127T180000
DTEND;TZID=America/Chicago:20270127T183000
DTSTAMP:20260423T025352
CREATED:20250130T214435Z
LAST-MODIFIED:20260222T204211Z
UID:10002847-1801072800-1801074600@lopbc.org
SUMMARY:Family Night Meal
DESCRIPTION:
URL:https://lopbc.org/church_event/family-night-meal/2027-01-27/
LOCATION:Fellowship Hall\, 9046 FM729\, Avinger\, TX\, 75630
CATEGORIES:Church-wide,Community
END:VEVENT
BEGIN:VEVENT
DTSTART;TZID=America/Chicago:20270202T183000
DTEND;TZID=America/Chicago:20270202T193000
DTSTAMP:20260423T025352
CREATED:20240925T131838Z
LAST-MODIFIED:20240925T133039Z
UID:10001224-1801593000-1801596600@lopbc.org
SUMMARY:Man Camp
DESCRIPTION:Come enjoy a meat-filled meal and fellowship with the men of the church. Occurs every 1st Tuesday.
URL:https://lopbc.org/church_event/man-camp/2027-02-02/
LOCATION:Fellowship Hall\, 9046 FM729\, Avinger\, TX\, 75630
CATEGORIES:Community,Men's Ministry
END:VEVENT
BEGIN:VEVENT
DTSTART;TZID=America/Chicago:20270203T180000
DTEND;TZID=America/Chicago:20270203T183000
DTSTAMP:20260423T025352
CREATED:20250130T214435Z
LAST-MODIFIED:20260222T204211Z
UID:10002848-1801677600-1801679400@lopbc.org
SUMMARY:Family Night Meal
DESCRIPTION:
URL:https://lopbc.org/church_event/family-night-meal/2027-02-03/
LOCATION:Fellowship Hall\, 9046 FM729\, Avinger\, TX\, 75630
CATEGORIES:Church-wide,Community
END:VEVENT
BEGIN:VEVENT
DTSTART;TZID=America/Chicago:20270210T180000
DTEND;TZID=America/Chicago:20270210T183000
DTSTAMP:20260423T025352
CREATED:20250130T214435Z
LAST-MODIFIED:20260222T204211Z
UID:10002849-1802282400-1802284200@lopbc.org
SUMMARY:Family Night Meal
DESCRIPTION:
URL:https://lopbc.org/church_event/family-night-meal/2027-02-10/
LOCATION:Fellowship Hall\, 9046 FM729\, Avinger\, TX\, 75630
CATEGORIES:Church-wide,Community
END:VEVENT
BEGIN:VEVENT
DTSTART;TZID=America/Chicago:20270217T180000
DTEND;TZID=America/Chicago:20270217T183000
DTSTAMP:20260423T025352
CREATED:20250130T214435Z
LAST-MODIFIED:20260222T204211Z
UID:10002850-1802887200-1802889000@lopbc.org
SUMMARY:Family Night Meal
DESCRIPTION:
URL:https://lopbc.org/church_event/family-night-meal/2027-02-17/
LOCATION:Fellowship Hall\, 9046 FM729\, Avinger\, TX\, 75630
CATEGORIES:Church-wide,Community
END:VEVENT
BEGIN:VEVENT
DTSTART;TZID=America/Chicago:20270220T080000
DTEND;TZID=America/Chicago:20270220T090000
DTSTAMP:20260423T025352
CREATED:20240225T221030Z
LAST-MODIFIED:20250130T231350Z
UID:10000164-1803110400-1803114000@lopbc.org
SUMMARY:Men's Breakfast
DESCRIPTION:Fellowship with men every third Saturday at 8:00AM. Enjoy a manly feast of bacon\, eggs\, sausage\, biscuits and gravy and more!
URL:https://lopbc.org/church_event/mens-breakfast/2027-02-20/
LOCATION:Fellowship Hall\, 9046 FM729\, Avinger\, TX\, 75630
CATEGORIES:Men's Ministry
ATTACH;FMTTYPE=image/jpeg:https://lopbc.org/wp-content/uploads/2024/02/pexels-athena-2961957-scaled.jpg
END:VEVENT
BEGIN:VEVENT
DTSTART;TZID=America/Chicago:20270224T180000
DTEND;TZID=America/Chicago:20270224T183000
DTSTAMP:20260423T025352
CREATED:20250130T214435Z
LAST-MODIFIED:20260222T204211Z
UID:10002851-1803492000-1803493800@lopbc.org
SUMMARY:Family Night Meal
DESCRIPTION:
URL:https://lopbc.org/church_event/family-night-meal/2027-02-24/
LOCATION:Fellowship Hall\, 9046 FM729\, Avinger\, TX\, 75630
CATEGORIES:Church-wide,Community
END:VEVENT
BEGIN:VEVENT
DTSTART;TZID=America/Chicago:20270302T183000
DTEND;TZID=America/Chicago:20270302T193000
DTSTAMP:20260423T025352
CREATED:20240925T131838Z
LAST-MODIFIED:20240925T133039Z
UID:10001225-1804012200-1804015800@lopbc.org
SUMMARY:Man Camp
DESCRIPTION:Come enjoy a meat-filled meal and fellowship with the men of the church. Occurs every 1st Tuesday.
URL:https://lopbc.org/church_event/man-camp/2027-03-02/
LOCATION:Fellowship Hall\, 9046 FM729\, Avinger\, TX\, 75630
CATEGORIES:Community,Men's Ministry
END:VEVENT
BEGIN:VEVENT
DTSTART;TZID=America/Chicago:20270303T180000
DTEND;TZID=America/Chicago:20270303T183000
DTSTAMP:20260423T025352
CREATED:20250130T214435Z
LAST-MODIFIED:20260222T204211Z
UID:10002852-1804096800-1804098600@lopbc.org
SUMMARY:Family Night Meal
DESCRIPTION:
URL:https://lopbc.org/church_event/family-night-meal/2027-03-03/
LOCATION:Fellowship Hall\, 9046 FM729\, Avinger\, TX\, 75630
CATEGORIES:Church-wide,Community
END:VEVENT
BEGIN:VEVENT
DTSTART;TZID=America/Chicago:20270310T180000
DTEND;TZID=America/Chicago:20270310T183000
DTSTAMP:20260423T025352
CREATED:20250130T214435Z
LAST-MODIFIED:20260222T204211Z
UID:10002853-1804701600-1804703400@lopbc.org
SUMMARY:Family Night Meal
DESCRIPTION:
URL:https://lopbc.org/church_event/family-night-meal/2027-03-10/
LOCATION:Fellowship Hall\, 9046 FM729\, Avinger\, TX\, 75630
CATEGORIES:Church-wide,Community
END:VEVENT
BEGIN:VEVENT
DTSTART;TZID=America/Chicago:20270317T180000
DTEND;TZID=America/Chicago:20270317T183000
DTSTAMP:20260423T025352
CREATED:20250130T214435Z
LAST-MODIFIED:20260222T204211Z
UID:10002854-1805306400-1805308200@lopbc.org
SUMMARY:Family Night Meal
DESCRIPTION:
URL:https://lopbc.org/church_event/family-night-meal/2027-03-17/
LOCATION:Fellowship Hall\, 9046 FM729\, Avinger\, TX\, 75630
CATEGORIES:Church-wide,Community
END:VEVENT
BEGIN:VEVENT
DTSTART;TZID=America/Chicago:20270320T080000
DTEND;TZID=America/Chicago:20270320T090000
DTSTAMP:20260423T025352
CREATED:20240225T221030Z
LAST-MODIFIED:20250130T231350Z
UID:10000165-1805529600-1805533200@lopbc.org
SUMMARY:Men's Breakfast
DESCRIPTION:Fellowship with men every third Saturday at 8:00AM. Enjoy a manly feast of bacon\, eggs\, sausage\, biscuits and gravy and more!
URL:https://lopbc.org/church_event/mens-breakfast/2027-03-20/
LOCATION:Fellowship Hall\, 9046 FM729\, Avinger\, TX\, 75630
CATEGORIES:Men's Ministry
ATTACH;FMTTYPE=image/jpeg:https://lopbc.org/wp-content/uploads/2024/02/pexels-athena-2961957-scaled.jpg
END:VEVENT
BEGIN:VEVENT
DTSTART;TZID=America/Chicago:20270324T180000
DTEND;TZID=America/Chicago:20270324T183000
DTSTAMP:20260423T025352
CREATED:20250130T214435Z
LAST-MODIFIED:20260222T204211Z
UID:10002855-1805911200-1805913000@lopbc.org
SUMMARY:Family Night Meal
DESCRIPTION:
URL:https://lopbc.org/church_event/family-night-meal/2027-03-24/
LOCATION:Fellowship Hall\, 9046 FM729\, Avinger\, TX\, 75630
CATEGORIES:Church-wide,Community
END:VEVENT
BEGIN:VEVENT
DTSTART;TZID=America/Chicago:20270331T180000
DTEND;TZID=America/Chicago:20270331T183000
DTSTAMP:20260423T025352
CREATED:20250130T214435Z
LAST-MODIFIED:20260222T204211Z
UID:10002856-1806516000-1806517800@lopbc.org
SUMMARY:Family Night Meal
DESCRIPTION:
URL:https://lopbc.org/church_event/family-night-meal/2027-03-31/
LOCATION:Fellowship Hall\, 9046 FM729\, Avinger\, TX\, 75630
CATEGORIES:Church-wide,Community
END:VEVENT
BEGIN:VEVENT
DTSTART;TZID=America/Chicago:20270406T183000
DTEND;TZID=America/Chicago:20270406T193000
DTSTAMP:20260423T025352
CREATED:20240925T131838Z
LAST-MODIFIED:20240925T133039Z
UID:10001226-1807036200-1807039800@lopbc.org
SUMMARY:Man Camp
DESCRIPTION:Come enjoy a meat-filled meal and fellowship with the men of the church. Occurs every 1st Tuesday.
URL:https://lopbc.org/church_event/man-camp/2027-04-06/
LOCATION:Fellowship Hall\, 9046 FM729\, Avinger\, TX\, 75630
CATEGORIES:Community,Men's Ministry
END:VEVENT
BEGIN:VEVENT
DTSTART;TZID=America/Chicago:20270407T180000
DTEND;TZID=America/Chicago:20270407T183000
DTSTAMP:20260423T025352
CREATED:20250130T214435Z
LAST-MODIFIED:20260222T204211Z
UID:10002857-1807120800-1807122600@lopbc.org
SUMMARY:Family Night Meal
DESCRIPTION:
URL:https://lopbc.org/church_event/family-night-meal/2027-04-07/
LOCATION:Fellowship Hall\, 9046 FM729\, Avinger\, TX\, 75630
CATEGORIES:Church-wide,Community
END:VEVENT
BEGIN:VEVENT
DTSTART;TZID=America/Chicago:20270414T180000
DTEND;TZID=America/Chicago:20270414T183000
DTSTAMP:20260423T025352
CREATED:20250130T214435Z
LAST-MODIFIED:20260222T204211Z
UID:10002858-1807725600-1807727400@lopbc.org
SUMMARY:Family Night Meal
DESCRIPTION:
URL:https://lopbc.org/church_event/family-night-meal/2027-04-14/
LOCATION:Fellowship Hall\, 9046 FM729\, Avinger\, TX\, 75630
CATEGORIES:Church-wide,Community
END:VEVENT
BEGIN:VEVENT
DTSTART;TZID=America/Chicago:20270417T080000
DTEND;TZID=America/Chicago:20270417T090000
DTSTAMP:20260423T025352
CREATED:20240225T221030Z
LAST-MODIFIED:20250130T231350Z
UID:10000166-1807948800-1807952400@lopbc.org
SUMMARY:Men's Breakfast
DESCRIPTION:Fellowship with men every third Saturday at 8:00AM. Enjoy a manly feast of bacon\, eggs\, sausage\, biscuits and gravy and more!
URL:https://lopbc.org/church_event/mens-breakfast/2027-04-17/
LOCATION:Fellowship Hall\, 9046 FM729\, Avinger\, TX\, 75630
CATEGORIES:Men's Ministry
ATTACH;FMTTYPE=image/jpeg:https://lopbc.org/wp-content/uploads/2024/02/pexels-athena-2961957-scaled.jpg
END:VEVENT
BEGIN:VEVENT
DTSTART;TZID=America/Chicago:20270421T180000
DTEND;TZID=America/Chicago:20270421T183000
DTSTAMP:20260423T025352
CREATED:20250130T214435Z
LAST-MODIFIED:20260222T204211Z
UID:10002859-1808330400-1808332200@lopbc.org
SUMMARY:Family Night Meal
DESCRIPTION:
URL:https://lopbc.org/church_event/family-night-meal/2027-04-21/
LOCATION:Fellowship Hall\, 9046 FM729\, Avinger\, TX\, 75630
CATEGORIES:Church-wide,Community
END:VEVENT
BEGIN:VEVENT
DTSTART;TZID=America/Chicago:20270428T180000
DTEND;TZID=America/Chicago:20270428T183000
DTSTAMP:20260423T025352
CREATED:20250130T214435Z
LAST-MODIFIED:20260222T204211Z
UID:10002860-1808935200-1808937000@lopbc.org
SUMMARY:Family Night Meal
DESCRIPTION:
URL:https://lopbc.org/church_event/family-night-meal/2027-04-28/
LOCATION:Fellowship Hall\, 9046 FM729\, Avinger\, TX\, 75630
CATEGORIES:Church-wide,Community
END:VEVENT
BEGIN:VEVENT
DTSTART;TZID=America/Chicago:20270504T183000
DTEND;TZID=America/Chicago:20270504T193000
DTSTAMP:20260423T025352
CREATED:20240925T131838Z
LAST-MODIFIED:20240925T133039Z
UID:10001227-1809455400-1809459000@lopbc.org
SUMMARY:Man Camp
DESCRIPTION:Come enjoy a meat-filled meal and fellowship with the men of the church. Occurs every 1st Tuesday.
URL:https://lopbc.org/church_event/man-camp/2027-05-04/
LOCATION:Fellowship Hall\, 9046 FM729\, Avinger\, TX\, 75630
CATEGORIES:Community,Men's Ministry
END:VEVENT
BEGIN:VEVENT
DTSTART;TZID=America/Chicago:20270505T180000
DTEND;TZID=America/Chicago:20270505T183000
DTSTAMP:20260423T025352
CREATED:20250130T214435Z
LAST-MODIFIED:20260222T204211Z
UID:10002861-1809540000-1809541800@lopbc.org
SUMMARY:Family Night Meal
DESCRIPTION:
URL:https://lopbc.org/church_event/family-night-meal/2027-05-05/
LOCATION:Fellowship Hall\, 9046 FM729\, Avinger\, TX\, 75630
CATEGORIES:Church-wide,Community
END:VEVENT
BEGIN:VEVENT
DTSTART;TZID=America/Chicago:20270512T180000
DTEND;TZID=America/Chicago:20270512T183000
DTSTAMP:20260423T025352
CREATED:20250130T214435Z
LAST-MODIFIED:20260222T204211Z
UID:10002862-1810144800-1810146600@lopbc.org
SUMMARY:Family Night Meal
DESCRIPTION:
URL:https://lopbc.org/church_event/family-night-meal/2027-05-12/
LOCATION:Fellowship Hall\, 9046 FM729\, Avinger\, TX\, 75630
CATEGORIES:Church-wide,Community
END:VEVENT
BEGIN:VEVENT
DTSTART;TZID=America/Chicago:20270515T080000
DTEND;TZID=America/Chicago:20270515T090000
DTSTAMP:20260423T025352
CREATED:20240225T221030Z
LAST-MODIFIED:20250130T231350Z
UID:10000167-1810368000-1810371600@lopbc.org
SUMMARY:Men's Breakfast
DESCRIPTION:Fellowship with men every third Saturday at 8:00AM. Enjoy a manly feast of bacon\, eggs\, sausage\, biscuits and gravy and more!
URL:https://lopbc.org/church_event/mens-breakfast/2027-05-15/
LOCATION:Fellowship Hall\, 9046 FM729\, Avinger\, TX\, 75630
CATEGORIES:Men's Ministry
ATTACH;FMTTYPE=image/jpeg:https://lopbc.org/wp-content/uploads/2024/02/pexels-athena-2961957-scaled.jpg
END:VEVENT
END:VCALENDAR