BEGIN:VCALENDAR
VERSION:2.0
PRODID:-//Lake O&#039; The Pines Baptist Church - ECPv6.15.20//NONSGML v1.0//EN
CALSCALE:GREGORIAN
METHOD:PUBLISH
X-ORIGINAL-URL:https://lopbc.org
X-WR-CALDESC:Events for Lake O&#039; The Pines Baptist Church
REFRESH-INTERVAL;VALUE=DURATION:PT1H
X-Robots-Tag:noindex
X-PUBLISHED-TTL:PT1H
BEGIN:VTIMEZONE
TZID:America/Chicago
BEGIN:DAYLIGHT
TZOFFSETFROM:-0600
TZOFFSETTO:-0500
TZNAME:CDT
DTSTART:20260308T080000
END:DAYLIGHT
BEGIN:STANDARD
TZOFFSETFROM:-0500
TZOFFSETTO:-0600
TZNAME:CST
DTSTART:20261101T070000
END:STANDARD
BEGIN:DAYLIGHT
TZOFFSETFROM:-0600
TZOFFSETTO:-0500
TZNAME:CDT
DTSTART:20270314T080000
END:DAYLIGHT
BEGIN:STANDARD
TZOFFSETFROM:-0500
TZOFFSETTO:-0600
TZNAME:CST
DTSTART:20271107T070000
END:STANDARD
BEGIN:DAYLIGHT
TZOFFSETFROM:-0600
TZOFFSETTO:-0500
TZNAME:CDT
DTSTART:20280312T080000
END:DAYLIGHT
BEGIN:STANDARD
TZOFFSETFROM:-0500
TZOFFSETTO:-0600
TZNAME:CST
DTSTART:20281105T070000
END:STANDARD
END:VTIMEZONE
BEGIN:VEVENT
DTSTART;TZID=America/Chicago:20270421T180000
DTEND;TZID=America/Chicago:20270421T183000
DTSTAMP:20260423T051047
CREATED:20250130T214435Z
LAST-MODIFIED:20260222T204211Z
UID:10002859-1808330400-1808332200@lopbc.org
SUMMARY:Family Night Meal
DESCRIPTION:
URL:https://lopbc.org/church_event/family-night-meal/2027-04-21/
LOCATION:Fellowship Hall\, 9046 FM729\, Avinger\, TX\, 75630
CATEGORIES:Church-wide,Community
END:VEVENT
BEGIN:VEVENT
DTSTART;TZID=America/Chicago:20270428T180000
DTEND;TZID=America/Chicago:20270428T183000
DTSTAMP:20260423T051047
CREATED:20250130T214435Z
LAST-MODIFIED:20260222T204211Z
UID:10002860-1808935200-1808937000@lopbc.org
SUMMARY:Family Night Meal
DESCRIPTION:
URL:https://lopbc.org/church_event/family-night-meal/2027-04-28/
LOCATION:Fellowship Hall\, 9046 FM729\, Avinger\, TX\, 75630
CATEGORIES:Church-wide,Community
END:VEVENT
BEGIN:VEVENT
DTSTART;TZID=America/Chicago:20270504T183000
DTEND;TZID=America/Chicago:20270504T193000
DTSTAMP:20260423T051047
CREATED:20240925T131838Z
LAST-MODIFIED:20240925T133039Z
UID:10001227-1809455400-1809459000@lopbc.org
SUMMARY:Man Camp
DESCRIPTION:Come enjoy a meat-filled meal and fellowship with the men of the church. Occurs every 1st Tuesday.
URL:https://lopbc.org/church_event/man-camp/2027-05-04/
LOCATION:Fellowship Hall\, 9046 FM729\, Avinger\, TX\, 75630
CATEGORIES:Community,Men's Ministry
END:VEVENT
BEGIN:VEVENT
DTSTART;TZID=America/Chicago:20270505T180000
DTEND;TZID=America/Chicago:20270505T183000
DTSTAMP:20260423T051047
CREATED:20250130T214435Z
LAST-MODIFIED:20260222T204211Z
UID:10002861-1809540000-1809541800@lopbc.org
SUMMARY:Family Night Meal
DESCRIPTION:
URL:https://lopbc.org/church_event/family-night-meal/2027-05-05/
LOCATION:Fellowship Hall\, 9046 FM729\, Avinger\, TX\, 75630
CATEGORIES:Church-wide,Community
END:VEVENT
BEGIN:VEVENT
DTSTART;TZID=America/Chicago:20270512T180000
DTEND;TZID=America/Chicago:20270512T183000
DTSTAMP:20260423T051047
CREATED:20250130T214435Z
LAST-MODIFIED:20260222T204211Z
UID:10002862-1810144800-1810146600@lopbc.org
SUMMARY:Family Night Meal
DESCRIPTION:
URL:https://lopbc.org/church_event/family-night-meal/2027-05-12/
LOCATION:Fellowship Hall\, 9046 FM729\, Avinger\, TX\, 75630
CATEGORIES:Church-wide,Community
END:VEVENT
BEGIN:VEVENT
DTSTART;TZID=America/Chicago:20270515T080000
DTEND;TZID=America/Chicago:20270515T090000
DTSTAMP:20260423T051047
CREATED:20240225T221030Z
LAST-MODIFIED:20250130T231350Z
UID:10000167-1810368000-1810371600@lopbc.org
SUMMARY:Men's Breakfast
DESCRIPTION:Fellowship with men every third Saturday at 8:00AM. Enjoy a manly feast of bacon\, eggs\, sausage\, biscuits and gravy and more!
URL:https://lopbc.org/church_event/mens-breakfast/2027-05-15/
LOCATION:Fellowship Hall\, 9046 FM729\, Avinger\, TX\, 75630
CATEGORIES:Men's Ministry
ATTACH;FMTTYPE=image/jpeg:https://lopbc.org/wp-content/uploads/2024/02/pexels-athena-2961957-scaled.jpg
END:VEVENT
BEGIN:VEVENT
DTSTART;TZID=America/Chicago:20270519T180000
DTEND;TZID=America/Chicago:20270519T183000
DTSTAMP:20260423T051047
CREATED:20250130T214435Z
LAST-MODIFIED:20260222T204211Z
UID:10002863-1810749600-1810751400@lopbc.org
SUMMARY:Family Night Meal
DESCRIPTION:
URL:https://lopbc.org/church_event/family-night-meal/2027-05-19/
LOCATION:Fellowship Hall\, 9046 FM729\, Avinger\, TX\, 75630
CATEGORIES:Church-wide,Community
END:VEVENT
BEGIN:VEVENT
DTSTART;TZID=America/Chicago:20270526T180000
DTEND;TZID=America/Chicago:20270526T183000
DTSTAMP:20260423T051047
CREATED:20250130T214435Z
LAST-MODIFIED:20260222T204211Z
UID:10002864-1811354400-1811356200@lopbc.org
SUMMARY:Family Night Meal
DESCRIPTION:
URL:https://lopbc.org/church_event/family-night-meal/2027-05-26/
LOCATION:Fellowship Hall\, 9046 FM729\, Avinger\, TX\, 75630
CATEGORIES:Church-wide,Community
END:VEVENT
BEGIN:VEVENT
DTSTART;TZID=America/Chicago:20270601T183000
DTEND;TZID=America/Chicago:20270601T193000
DTSTAMP:20260423T051047
CREATED:20240925T131838Z
LAST-MODIFIED:20240925T133039Z
UID:10001228-1811874600-1811878200@lopbc.org
SUMMARY:Man Camp
DESCRIPTION:Come enjoy a meat-filled meal and fellowship with the men of the church. Occurs every 1st Tuesday.
URL:https://lopbc.org/church_event/man-camp/2027-06-01/
LOCATION:Fellowship Hall\, 9046 FM729\, Avinger\, TX\, 75630
CATEGORIES:Community,Men's Ministry
END:VEVENT
BEGIN:VEVENT
DTSTART;TZID=America/Chicago:20270602T180000
DTEND;TZID=America/Chicago:20270602T183000
DTSTAMP:20260423T051047
CREATED:20250130T214435Z
LAST-MODIFIED:20260222T204211Z
UID:10002865-1811959200-1811961000@lopbc.org
SUMMARY:Family Night Meal
DESCRIPTION:
URL:https://lopbc.org/church_event/family-night-meal/2027-06-02/
LOCATION:Fellowship Hall\, 9046 FM729\, Avinger\, TX\, 75630
CATEGORIES:Church-wide,Community
END:VEVENT
BEGIN:VEVENT
DTSTART;TZID=America/Chicago:20270609T180000
DTEND;TZID=America/Chicago:20270609T183000
DTSTAMP:20260423T051047
CREATED:20250130T214435Z
LAST-MODIFIED:20260222T204211Z
UID:10002866-1812564000-1812565800@lopbc.org
SUMMARY:Family Night Meal
DESCRIPTION:
URL:https://lopbc.org/church_event/family-night-meal/2027-06-09/
LOCATION:Fellowship Hall\, 9046 FM729\, Avinger\, TX\, 75630
CATEGORIES:Church-wide,Community
END:VEVENT
BEGIN:VEVENT
DTSTART;TZID=America/Chicago:20270616T180000
DTEND;TZID=America/Chicago:20270616T183000
DTSTAMP:20260423T051047
CREATED:20250130T214435Z
LAST-MODIFIED:20260222T204211Z
UID:10002867-1813168800-1813170600@lopbc.org
SUMMARY:Family Night Meal
DESCRIPTION:
URL:https://lopbc.org/church_event/family-night-meal/2027-06-16/
LOCATION:Fellowship Hall\, 9046 FM729\, Avinger\, TX\, 75630
CATEGORIES:Church-wide,Community
END:VEVENT
BEGIN:VEVENT
DTSTART;TZID=America/Chicago:20270619T080000
DTEND;TZID=America/Chicago:20270619T090000
DTSTAMP:20260423T051047
CREATED:20240225T221030Z
LAST-MODIFIED:20250130T231350Z
UID:10000168-1813392000-1813395600@lopbc.org
SUMMARY:Men's Breakfast
DESCRIPTION:Fellowship with men every third Saturday at 8:00AM. Enjoy a manly feast of bacon\, eggs\, sausage\, biscuits and gravy and more!
URL:https://lopbc.org/church_event/mens-breakfast/2027-06-19/
LOCATION:Fellowship Hall\, 9046 FM729\, Avinger\, TX\, 75630
CATEGORIES:Men's Ministry
ATTACH;FMTTYPE=image/jpeg:https://lopbc.org/wp-content/uploads/2024/02/pexels-athena-2961957-scaled.jpg
END:VEVENT
BEGIN:VEVENT
DTSTART;TZID=America/Chicago:20270623T180000
DTEND;TZID=America/Chicago:20270623T183000
DTSTAMP:20260423T051047
CREATED:20250130T214435Z
LAST-MODIFIED:20260222T204211Z
UID:10002868-1813773600-1813775400@lopbc.org
SUMMARY:Family Night Meal
DESCRIPTION:
URL:https://lopbc.org/church_event/family-night-meal/2027-06-23/
LOCATION:Fellowship Hall\, 9046 FM729\, Avinger\, TX\, 75630
CATEGORIES:Church-wide,Community
END:VEVENT
BEGIN:VEVENT
DTSTART;TZID=America/Chicago:20270630T180000
DTEND;TZID=America/Chicago:20270630T183000
DTSTAMP:20260423T051047
CREATED:20250130T214435Z
LAST-MODIFIED:20260222T204211Z
UID:10002869-1814378400-1814380200@lopbc.org
SUMMARY:Family Night Meal
DESCRIPTION:
URL:https://lopbc.org/church_event/family-night-meal/2027-06-30/
LOCATION:Fellowship Hall\, 9046 FM729\, Avinger\, TX\, 75630
CATEGORIES:Church-wide,Community
END:VEVENT
BEGIN:VEVENT
DTSTART;TZID=America/Chicago:20270706T183000
DTEND;TZID=America/Chicago:20270706T193000
DTSTAMP:20260423T051047
CREATED:20240925T131838Z
LAST-MODIFIED:20240925T133039Z
UID:10001229-1814898600-1814902200@lopbc.org
SUMMARY:Man Camp
DESCRIPTION:Come enjoy a meat-filled meal and fellowship with the men of the church. Occurs every 1st Tuesday.
URL:https://lopbc.org/church_event/man-camp/2027-07-06/
LOCATION:Fellowship Hall\, 9046 FM729\, Avinger\, TX\, 75630
CATEGORIES:Community,Men's Ministry
END:VEVENT
BEGIN:VEVENT
DTSTART;TZID=America/Chicago:20270707T180000
DTEND;TZID=America/Chicago:20270707T183000
DTSTAMP:20260423T051047
CREATED:20250130T214435Z
LAST-MODIFIED:20260222T204211Z
UID:10002870-1814983200-1814985000@lopbc.org
SUMMARY:Family Night Meal
DESCRIPTION:
URL:https://lopbc.org/church_event/family-night-meal/2027-07-07/
LOCATION:Fellowship Hall\, 9046 FM729\, Avinger\, TX\, 75630
CATEGORIES:Church-wide,Community
END:VEVENT
BEGIN:VEVENT
DTSTART;TZID=America/Chicago:20270714T180000
DTEND;TZID=America/Chicago:20270714T183000
DTSTAMP:20260423T051047
CREATED:20250130T214435Z
LAST-MODIFIED:20260222T204211Z
UID:10002871-1815588000-1815589800@lopbc.org
SUMMARY:Family Night Meal
DESCRIPTION:
URL:https://lopbc.org/church_event/family-night-meal/2027-07-14/
LOCATION:Fellowship Hall\, 9046 FM729\, Avinger\, TX\, 75630
CATEGORIES:Church-wide,Community
END:VEVENT
BEGIN:VEVENT
DTSTART;TZID=America/Chicago:20270717T080000
DTEND;TZID=America/Chicago:20270717T090000
DTSTAMP:20260423T051047
CREATED:20240225T221030Z
LAST-MODIFIED:20250130T231350Z
UID:10000169-1815811200-1815814800@lopbc.org
SUMMARY:Men's Breakfast
DESCRIPTION:Fellowship with men every third Saturday at 8:00AM. Enjoy a manly feast of bacon\, eggs\, sausage\, biscuits and gravy and more!
URL:https://lopbc.org/church_event/mens-breakfast/2027-07-17/
LOCATION:Fellowship Hall\, 9046 FM729\, Avinger\, TX\, 75630
CATEGORIES:Men's Ministry
ATTACH;FMTTYPE=image/jpeg:https://lopbc.org/wp-content/uploads/2024/02/pexels-athena-2961957-scaled.jpg
END:VEVENT
BEGIN:VEVENT
DTSTART;TZID=America/Chicago:20270721T180000
DTEND;TZID=America/Chicago:20270721T183000
DTSTAMP:20260423T051047
CREATED:20250130T214435Z
LAST-MODIFIED:20260222T204211Z
UID:10002872-1816192800-1816194600@lopbc.org
SUMMARY:Family Night Meal
DESCRIPTION:
URL:https://lopbc.org/church_event/family-night-meal/2027-07-21/
LOCATION:Fellowship Hall\, 9046 FM729\, Avinger\, TX\, 75630
CATEGORIES:Church-wide,Community
END:VEVENT
BEGIN:VEVENT
DTSTART;TZID=America/Chicago:20270728T180000
DTEND;TZID=America/Chicago:20270728T183000
DTSTAMP:20260423T051047
CREATED:20250130T214435Z
LAST-MODIFIED:20260222T204211Z
UID:10002873-1816797600-1816799400@lopbc.org
SUMMARY:Family Night Meal
DESCRIPTION:
URL:https://lopbc.org/church_event/family-night-meal/2027-07-28/
LOCATION:Fellowship Hall\, 9046 FM729\, Avinger\, TX\, 75630
CATEGORIES:Church-wide,Community
END:VEVENT
BEGIN:VEVENT
DTSTART;TZID=America/Chicago:20270803T183000
DTEND;TZID=America/Chicago:20270803T193000
DTSTAMP:20260423T051047
CREATED:20240925T131838Z
LAST-MODIFIED:20240925T133039Z
UID:10001230-1817317800-1817321400@lopbc.org
SUMMARY:Man Camp
DESCRIPTION:Come enjoy a meat-filled meal and fellowship with the men of the church. Occurs every 1st Tuesday.
URL:https://lopbc.org/church_event/man-camp/2027-08-03/
LOCATION:Fellowship Hall\, 9046 FM729\, Avinger\, TX\, 75630
CATEGORIES:Community,Men's Ministry
END:VEVENT
BEGIN:VEVENT
DTSTART;TZID=America/Chicago:20270804T180000
DTEND;TZID=America/Chicago:20270804T183000
DTSTAMP:20260423T051047
CREATED:20250130T214435Z
LAST-MODIFIED:20260222T204211Z
UID:10002874-1817402400-1817404200@lopbc.org
SUMMARY:Family Night Meal
DESCRIPTION:
URL:https://lopbc.org/church_event/family-night-meal/2027-08-04/
LOCATION:Fellowship Hall\, 9046 FM729\, Avinger\, TX\, 75630
CATEGORIES:Church-wide,Community
END:VEVENT
BEGIN:VEVENT
DTSTART;TZID=America/Chicago:20270811T180000
DTEND;TZID=America/Chicago:20270811T183000
DTSTAMP:20260423T051047
CREATED:20250130T214435Z
LAST-MODIFIED:20260222T204211Z
UID:10002875-1818007200-1818009000@lopbc.org
SUMMARY:Family Night Meal
DESCRIPTION:
URL:https://lopbc.org/church_event/family-night-meal/2027-08-11/
LOCATION:Fellowship Hall\, 9046 FM729\, Avinger\, TX\, 75630
CATEGORIES:Church-wide,Community
END:VEVENT
BEGIN:VEVENT
DTSTART;TZID=America/Chicago:20270818T180000
DTEND;TZID=America/Chicago:20270818T183000
DTSTAMP:20260423T051047
CREATED:20250130T214435Z
LAST-MODIFIED:20260222T204211Z
UID:10002876-1818612000-1818613800@lopbc.org
SUMMARY:Family Night Meal
DESCRIPTION:
URL:https://lopbc.org/church_event/family-night-meal/2027-08-18/
LOCATION:Fellowship Hall\, 9046 FM729\, Avinger\, TX\, 75630
CATEGORIES:Church-wide,Community
END:VEVENT
BEGIN:VEVENT
DTSTART;TZID=America/Chicago:20270821T080000
DTEND;TZID=America/Chicago:20270821T090000
DTSTAMP:20260423T051047
CREATED:20240225T221030Z
LAST-MODIFIED:20250130T231350Z
UID:10000170-1818835200-1818838800@lopbc.org
SUMMARY:Men's Breakfast
DESCRIPTION:Fellowship with men every third Saturday at 8:00AM. Enjoy a manly feast of bacon\, eggs\, sausage\, biscuits and gravy and more!
URL:https://lopbc.org/church_event/mens-breakfast/2027-08-21/
LOCATION:Fellowship Hall\, 9046 FM729\, Avinger\, TX\, 75630
CATEGORIES:Men's Ministry
ATTACH;FMTTYPE=image/jpeg:https://lopbc.org/wp-content/uploads/2024/02/pexels-athena-2961957-scaled.jpg
END:VEVENT
BEGIN:VEVENT
DTSTART;TZID=America/Chicago:20270825T180000
DTEND;TZID=America/Chicago:20270825T183000
DTSTAMP:20260423T051047
CREATED:20250130T214435Z
LAST-MODIFIED:20260222T204211Z
UID:10002877-1819216800-1819218600@lopbc.org
SUMMARY:Family Night Meal
DESCRIPTION:
URL:https://lopbc.org/church_event/family-night-meal/2027-08-25/
LOCATION:Fellowship Hall\, 9046 FM729\, Avinger\, TX\, 75630
CATEGORIES:Church-wide,Community
END:VEVENT
BEGIN:VEVENT
DTSTART;TZID=America/Chicago:20270901T180000
DTEND;TZID=America/Chicago:20270901T183000
DTSTAMP:20260423T051047
CREATED:20250130T214435Z
LAST-MODIFIED:20260222T204211Z
UID:10002878-1819821600-1819823400@lopbc.org
SUMMARY:Family Night Meal
DESCRIPTION:
URL:https://lopbc.org/church_event/family-night-meal/2027-09-01/
LOCATION:Fellowship Hall\, 9046 FM729\, Avinger\, TX\, 75630
CATEGORIES:Church-wide,Community
END:VEVENT
BEGIN:VEVENT
DTSTART;TZID=America/Chicago:20270907T183000
DTEND;TZID=America/Chicago:20270907T193000
DTSTAMP:20260423T051047
CREATED:20240925T131838Z
LAST-MODIFIED:20240925T133039Z
UID:10001231-1820341800-1820345400@lopbc.org
SUMMARY:Man Camp
DESCRIPTION:Come enjoy a meat-filled meal and fellowship with the men of the church. Occurs every 1st Tuesday.
URL:https://lopbc.org/church_event/man-camp/2027-09-07/
LOCATION:Fellowship Hall\, 9046 FM729\, Avinger\, TX\, 75630
CATEGORIES:Community,Men's Ministry
END:VEVENT
BEGIN:VEVENT
DTSTART;TZID=America/Chicago:20270908T180000
DTEND;TZID=America/Chicago:20270908T183000
DTSTAMP:20260423T051047
CREATED:20250130T214435Z
LAST-MODIFIED:20260222T204211Z
UID:10002879-1820426400-1820428200@lopbc.org
SUMMARY:Family Night Meal
DESCRIPTION:
URL:https://lopbc.org/church_event/family-night-meal/2027-09-08/
LOCATION:Fellowship Hall\, 9046 FM729\, Avinger\, TX\, 75630
CATEGORIES:Church-wide,Community
END:VEVENT
END:VCALENDAR