BEGIN:VCALENDAR
VERSION:2.0
PRODID:-//Lake O&#039; The Pines Baptist Church - ECPv6.15.20//NONSGML v1.0//EN
CALSCALE:GREGORIAN
METHOD:PUBLISH
X-WR-CALNAME:Lake O&#039; The Pines Baptist Church
X-ORIGINAL-URL:https://lopbc.org
X-WR-CALDESC:Events for Lake O&#039; The Pines Baptist Church
REFRESH-INTERVAL;VALUE=DURATION:PT1H
X-Robots-Tag:noindex
X-PUBLISHED-TTL:PT1H
BEGIN:VTIMEZONE
TZID:America/Chicago
BEGIN:DAYLIGHT
TZOFFSETFROM:-0600
TZOFFSETTO:-0500
TZNAME:CDT
DTSTART:20240310T080000
END:DAYLIGHT
BEGIN:STANDARD
TZOFFSETFROM:-0500
TZOFFSETTO:-0600
TZNAME:CST
DTSTART:20241103T070000
END:STANDARD
BEGIN:DAYLIGHT
TZOFFSETFROM:-0600
TZOFFSETTO:-0500
TZNAME:CDT
DTSTART:20250309T080000
END:DAYLIGHT
BEGIN:STANDARD
TZOFFSETFROM:-0500
TZOFFSETTO:-0600
TZNAME:CST
DTSTART:20251102T070000
END:STANDARD
BEGIN:DAYLIGHT
TZOFFSETFROM:-0600
TZOFFSETTO:-0500
TZNAME:CDT
DTSTART:20260308T080000
END:DAYLIGHT
BEGIN:STANDARD
TZOFFSETFROM:-0500
TZOFFSETTO:-0600
TZNAME:CST
DTSTART:20261101T070000
END:STANDARD
END:VTIMEZONE
BEGIN:VEVENT
DTSTART;TZID=America/Chicago:20250805T183000
DTEND;TZID=America/Chicago:20250805T193000
DTSTAMP:20260423T091227
CREATED:20240925T131838Z
LAST-MODIFIED:20240925T133039Z
UID:10001206-1754418600-1754422200@lopbc.org
SUMMARY:Man Camp
DESCRIPTION:Come enjoy a meat-filled meal and fellowship with the men of the church. Occurs every 1st Tuesday.
URL:https://lopbc.org/church_event/man-camp/2025-08-05/
LOCATION:Fellowship Hall\, 9046 FM729\, Avinger\, TX\, 75630
CATEGORIES:Community,Men's Ministry
END:VEVENT
BEGIN:VEVENT
DTSTART;TZID=America/Chicago:20250804T180000
DTEND;TZID=America/Chicago:20250804T190000
DTSTAMP:20260423T091227
CREATED:20250130T222510Z
LAST-MODIFIED:20250130T224652Z
UID:10003046-1754330400-1754334000@lopbc.org
SUMMARY:Women of Worship (WoW) Bible Study
DESCRIPTION:
URL:https://lopbc.org/church_event/women-of-worship-wow-bible-study/2025-08-04/
LOCATION:Fellowship Hall\, 9046 FM729\, Avinger\, TX\, 75630
CATEGORIES:Community,Women's Ministry
END:VEVENT
BEGIN:VEVENT
DTSTART;TZID=America/Chicago:20250730T180000
DTEND;TZID=America/Chicago:20250730T183000
DTSTAMP:20260423T091227
CREATED:20250130T214435Z
LAST-MODIFIED:20260222T204211Z
UID:10002769-1753898400-1753900200@lopbc.org
SUMMARY:Family Night Meal
DESCRIPTION:
URL:https://lopbc.org/church_event/family-night-meal/2025-07-30/
LOCATION:Fellowship Hall\, 9046 FM729\, Avinger\, TX\, 75630
CATEGORIES:Church-wide,Community
END:VEVENT
BEGIN:VEVENT
DTSTART;TZID=America/Chicago:20250728T180000
DTEND;TZID=America/Chicago:20250728T190000
DTSTAMP:20260423T091227
CREATED:20250130T222510Z
LAST-MODIFIED:20250130T224652Z
UID:10003045-1753725600-1753729200@lopbc.org
SUMMARY:Women of Worship (WoW) Bible Study
DESCRIPTION:
URL:https://lopbc.org/church_event/women-of-worship-wow-bible-study/2025-07-28/
LOCATION:Fellowship Hall\, 9046 FM729\, Avinger\, TX\, 75630
CATEGORIES:Community,Women's Ministry
END:VEVENT
BEGIN:VEVENT
DTSTART;TZID=America/Chicago:20250723T180000
DTEND;TZID=America/Chicago:20250723T183000
DTSTAMP:20260423T091227
CREATED:20250130T214435Z
LAST-MODIFIED:20260222T204211Z
UID:10002768-1753293600-1753295400@lopbc.org
SUMMARY:Family Night Meal
DESCRIPTION:
URL:https://lopbc.org/church_event/family-night-meal/2025-07-23/
LOCATION:Fellowship Hall\, 9046 FM729\, Avinger\, TX\, 75630
CATEGORIES:Church-wide,Community
END:VEVENT
BEGIN:VEVENT
DTSTART;TZID=America/Chicago:20250721T180000
DTEND;TZID=America/Chicago:20250721T190000
DTSTAMP:20260423T091227
CREATED:20250130T222510Z
LAST-MODIFIED:20250130T224652Z
UID:10003044-1753120800-1753124400@lopbc.org
SUMMARY:Women of Worship (WoW) Bible Study
DESCRIPTION:
URL:https://lopbc.org/church_event/women-of-worship-wow-bible-study/2025-07-21/
LOCATION:Fellowship Hall\, 9046 FM729\, Avinger\, TX\, 75630
CATEGORIES:Community,Women's Ministry
END:VEVENT
BEGIN:VEVENT
DTSTART;TZID=America/Chicago:20250719T080000
DTEND;TZID=America/Chicago:20250719T090000
DTSTAMP:20260423T091227
CREATED:20240225T221030Z
LAST-MODIFIED:20250130T231350Z
UID:10000145-1752912000-1752915600@lopbc.org
SUMMARY:Men's Breakfast
DESCRIPTION:Fellowship with men every third Saturday at 8:00AM. Enjoy a manly feast of bacon\, eggs\, sausage\, biscuits and gravy and more!
URL:https://lopbc.org/church_event/mens-breakfast/2025-07-19/
LOCATION:Fellowship Hall\, 9046 FM729\, Avinger\, TX\, 75630
CATEGORIES:Men's Ministry
ATTACH;FMTTYPE=image/jpeg:https://lopbc.org/wp-content/uploads/2024/02/pexels-athena-2961957-scaled.jpg
END:VEVENT
BEGIN:VEVENT
DTSTART;TZID=America/Chicago:20250716T180000
DTEND;TZID=America/Chicago:20250716T183000
DTSTAMP:20260423T091227
CREATED:20250131T155303Z
LAST-MODIFIED:20250131T155303Z
UID:10003773-1752688800-1752690600@lopbc.org
SUMMARY:Revival Family Night Meal
DESCRIPTION:
URL:https://lopbc.org/church_event/revival-family-night-meal/
LOCATION:Fellowship Hall\, 9046 FM729\, Avinger\, TX\, 75630
CATEGORIES:Church-wide,Community
END:VEVENT
BEGIN:VEVENT
DTSTART;TZID=America/Chicago:20250713T123000
DTEND;TZID=America/Chicago:20250713T133000
DTSTAMP:20260423T091227
CREATED:20250131T154835Z
LAST-MODIFIED:20250131T154835Z
UID:10003767-1752409800-1752413400@lopbc.org
SUMMARY:Church-wide Lunch Catered
DESCRIPTION:
URL:https://lopbc.org/church_event/church-wide-lunch-catered/
LOCATION:Fellowship Hall\, 9046 FM729\, Avinger\, TX\, 75630
CATEGORIES:Church-wide,Community
END:VEVENT
BEGIN:VEVENT
DTSTART;TZID=America/Chicago:20250709T180000
DTEND;TZID=America/Chicago:20250709T183000
DTSTAMP:20260423T091227
CREATED:20250130T214435Z
LAST-MODIFIED:20260222T204211Z
UID:10002766-1752084000-1752085800@lopbc.org
SUMMARY:Family Night Meal
DESCRIPTION:
URL:https://lopbc.org/church_event/family-night-meal/2025-07-09/
LOCATION:Fellowship Hall\, 9046 FM729\, Avinger\, TX\, 75630
CATEGORIES:Church-wide,Community
END:VEVENT
BEGIN:VEVENT
DTSTART;TZID=America/Chicago:20250707T180000
DTEND;TZID=America/Chicago:20250707T190000
DTSTAMP:20260423T091227
CREATED:20250130T222510Z
LAST-MODIFIED:20250130T224652Z
UID:10003042-1751911200-1751914800@lopbc.org
SUMMARY:Women of Worship (WoW) Bible Study
DESCRIPTION:
URL:https://lopbc.org/church_event/women-of-worship-wow-bible-study/2025-07-07/
LOCATION:Fellowship Hall\, 9046 FM729\, Avinger\, TX\, 75630
CATEGORIES:Community,Women's Ministry
END:VEVENT
BEGIN:VEVENT
DTSTART;TZID=America/Chicago:20250702T180000
DTEND;TZID=America/Chicago:20250702T183000
DTSTAMP:20260423T091227
CREATED:20250130T214435Z
LAST-MODIFIED:20260222T204211Z
UID:10002765-1751479200-1751481000@lopbc.org
SUMMARY:Family Night Meal
DESCRIPTION:
URL:https://lopbc.org/church_event/family-night-meal/2025-07-02/
LOCATION:Fellowship Hall\, 9046 FM729\, Avinger\, TX\, 75630
CATEGORIES:Church-wide,Community
END:VEVENT
BEGIN:VEVENT
DTSTART;TZID=America/Chicago:20250701T183000
DTEND;TZID=America/Chicago:20250701T193000
DTSTAMP:20260423T091227
CREATED:20240925T131838Z
LAST-MODIFIED:20240925T133039Z
UID:10001205-1751394600-1751398200@lopbc.org
SUMMARY:Man Camp
DESCRIPTION:Come enjoy a meat-filled meal and fellowship with the men of the church. Occurs every 1st Tuesday.
URL:https://lopbc.org/church_event/man-camp/2025-07-01/
LOCATION:Fellowship Hall\, 9046 FM729\, Avinger\, TX\, 75630
CATEGORIES:Community,Men's Ministry
END:VEVENT
BEGIN:VEVENT
DTSTART;TZID=America/Chicago:20250630T180000
DTEND;TZID=America/Chicago:20250630T190000
DTSTAMP:20260423T091227
CREATED:20250130T222510Z
LAST-MODIFIED:20250130T224652Z
UID:10003041-1751306400-1751310000@lopbc.org
SUMMARY:Women of Worship (WoW) Bible Study
DESCRIPTION:
URL:https://lopbc.org/church_event/women-of-worship-wow-bible-study/2025-06-30/
LOCATION:Fellowship Hall\, 9046 FM729\, Avinger\, TX\, 75630
CATEGORIES:Community,Women's Ministry
END:VEVENT
BEGIN:VEVENT
DTSTART;TZID=America/Chicago:20250629T120000
DTEND;TZID=America/Chicago:20250629T133000
DTSTAMP:20260423T091227
CREATED:20250131T013900Z
LAST-MODIFIED:20250131T013900Z
UID:10003764-1751198400-1751203800@lopbc.org
SUMMARY:Youth Luncheon Fundraiser
DESCRIPTION:
URL:https://lopbc.org/church_event/youth-luncheon-fundraiser-2/
LOCATION:Fellowship Hall\, 9046 FM729\, Avinger\, TX\, 75630
CATEGORIES:Church-wide,Community,Youth Ministry
END:VEVENT
BEGIN:VEVENT
DTSTART;TZID=America/Chicago:20250623T180000
DTEND;TZID=America/Chicago:20250623T190000
DTSTAMP:20260423T091227
CREATED:20250130T222510Z
LAST-MODIFIED:20250130T224652Z
UID:10003040-1750701600-1750705200@lopbc.org
SUMMARY:Women of Worship (WoW) Bible Study
DESCRIPTION:
URL:https://lopbc.org/church_event/women-of-worship-wow-bible-study/2025-06-23/
LOCATION:Fellowship Hall\, 9046 FM729\, Avinger\, TX\, 75630
CATEGORIES:Community,Women's Ministry
END:VEVENT
BEGIN:VEVENT
DTSTART;TZID=America/Chicago:20250621T120000
DTEND;TZID=America/Chicago:20250621T133000
DTSTAMP:20260423T091227
CREATED:20250131T013740Z
LAST-MODIFIED:20250131T013740Z
UID:10003763-1750507200-1750512600@lopbc.org
SUMMARY:VBS Family Day Lunch
DESCRIPTION:
URL:https://lopbc.org/church_event/vbs-family-day-lunch/
LOCATION:Fellowship Hall\, 9046 FM729\, Avinger\, TX\, 75630
CATEGORIES:Children's Ministry,Church-wide,Community,VBS
END:VEVENT
BEGIN:VEVENT
DTSTART;TZID=America/Chicago:20250620T090000
DTEND;TZID=America/Chicago:20250620T121500
DTSTAMP:20260423T091227
CREATED:20250131T012640Z
LAST-MODIFIED:20250131T013149Z
UID:10003760-1750410000-1750421700@lopbc.org
SUMMARY:Vacation Bible School
DESCRIPTION:
URL:https://lopbc.org/church_event/vacation-bible-school-2/2025-06-20/
LOCATION:Fellowship Hall\, 9046 FM729\, Avinger\, TX\, 75630
CATEGORIES:Children's Ministry,Church-wide,VBS
END:VEVENT
BEGIN:VEVENT
DTSTART;TZID=America/Chicago:20250619T090000
DTEND;TZID=America/Chicago:20250619T121500
DTSTAMP:20260423T091227
CREATED:20250131T012640Z
LAST-MODIFIED:20250131T013149Z
UID:10003759-1750323600-1750335300@lopbc.org
SUMMARY:Vacation Bible School
DESCRIPTION:
URL:https://lopbc.org/church_event/vacation-bible-school-2/2025-06-19/
LOCATION:Fellowship Hall\, 9046 FM729\, Avinger\, TX\, 75630
CATEGORIES:Children's Ministry,Church-wide,VBS
END:VEVENT
BEGIN:VEVENT
DTSTART;TZID=America/Chicago:20250618T090000
DTEND;TZID=America/Chicago:20250618T121500
DTSTAMP:20260423T091227
CREATED:20250131T012640Z
LAST-MODIFIED:20250131T013149Z
UID:10003761-1750237200-1750248900@lopbc.org
SUMMARY:Vacation Bible School
DESCRIPTION:
URL:https://lopbc.org/church_event/vacation-bible-school-2/2025-06-18/
LOCATION:Fellowship Hall\, 9046 FM729\, Avinger\, TX\, 75630
CATEGORIES:Children's Ministry,Church-wide,VBS
END:VEVENT
BEGIN:VEVENT
DTSTART;TZID=America/Chicago:20250617T090000
DTEND;TZID=America/Chicago:20250617T121500
DTSTAMP:20260423T091227
CREATED:20250131T012640Z
LAST-MODIFIED:20250131T013149Z
UID:10003757-1750150800-1750162500@lopbc.org
SUMMARY:Vacation Bible School
DESCRIPTION:
URL:https://lopbc.org/church_event/vacation-bible-school-2/2025-06-17/
LOCATION:Fellowship Hall\, 9046 FM729\, Avinger\, TX\, 75630
CATEGORIES:Children's Ministry,Church-wide,VBS
END:VEVENT
BEGIN:VEVENT
DTSTART;TZID=America/Chicago:20250616T180000
DTEND;TZID=America/Chicago:20250616T190000
DTSTAMP:20260423T091227
CREATED:20250130T222510Z
LAST-MODIFIED:20250130T224652Z
UID:10003039-1750096800-1750100400@lopbc.org
SUMMARY:Women of Worship (WoW) Bible Study
DESCRIPTION:
URL:https://lopbc.org/church_event/women-of-worship-wow-bible-study/2025-06-16/
LOCATION:Fellowship Hall\, 9046 FM729\, Avinger\, TX\, 75630
CATEGORIES:Community,Women's Ministry
END:VEVENT
BEGIN:VEVENT
DTSTART;TZID=America/Chicago:20250616T090000
DTEND;TZID=America/Chicago:20250616T121500
DTSTAMP:20260423T091227
CREATED:20250131T012640Z
LAST-MODIFIED:20250131T013149Z
UID:10003388-1750064400-1750076100@lopbc.org
SUMMARY:Vacation Bible School
DESCRIPTION:
URL:https://lopbc.org/church_event/vacation-bible-school-2/2025-06-16/
LOCATION:Fellowship Hall\, 9046 FM729\, Avinger\, TX\, 75630
CATEGORIES:Children's Ministry,Church-wide,VBS
END:VEVENT
BEGIN:VEVENT
DTSTART;TZID=America/Chicago:20250611T180000
DTEND;TZID=America/Chicago:20250611T183000
DTSTAMP:20260423T091227
CREATED:20250130T214435Z
LAST-MODIFIED:20260222T204211Z
UID:10002762-1749664800-1749666600@lopbc.org
SUMMARY:Family Night Meal
DESCRIPTION:
URL:https://lopbc.org/church_event/family-night-meal/2025-06-11/
LOCATION:Fellowship Hall\, 9046 FM729\, Avinger\, TX\, 75630
CATEGORIES:Church-wide,Community
END:VEVENT
BEGIN:VEVENT
DTSTART;TZID=America/Chicago:20250609T180000
DTEND;TZID=America/Chicago:20250609T200000
DTSTAMP:20260423T091227
CREATED:20240225T223940Z
LAST-MODIFIED:20250825T182130Z
UID:10000324-1749492000-1749499200@lopbc.org
SUMMARY:WOW - Women of Worship Meeting
DESCRIPTION:Women of Worship (WOW) is the Lake O’ The Pines Baptist Church Women’s Ministry. We meet the second Monday of each month 6:00 – 8:00 PM. We have wonderful praise and worship music\, a short program and of course we enjoy sharing favorite dishes or snacks. Childcare is provided up to 12 years old. We would love for you to join us!
URL:https://lopbc.org/church_event/wow-women-of-worship-meeting/2025-06-09/
LOCATION:Fellowship Hall\, 9046 FM729\, Avinger\, TX\, 75630
CATEGORIES:Women's Ministry
ATTACH;FMTTYPE=image/png:https://lopbc.org/wp-content/uploads/2025/08/wow-2025-1200x800-1.png
END:VEVENT
BEGIN:VEVENT
DTSTART;TZID=America/Chicago:20250604T180000
DTEND;TZID=America/Chicago:20250604T183000
DTSTAMP:20260423T091227
CREATED:20250130T214435Z
LAST-MODIFIED:20260222T204211Z
UID:10002761-1749060000-1749061800@lopbc.org
SUMMARY:Family Night Meal
DESCRIPTION:
URL:https://lopbc.org/church_event/family-night-meal/2025-06-04/
LOCATION:Fellowship Hall\, 9046 FM729\, Avinger\, TX\, 75630
CATEGORIES:Church-wide,Community
END:VEVENT
BEGIN:VEVENT
DTSTART;TZID=America/Chicago:20250603T183000
DTEND;TZID=America/Chicago:20250603T193000
DTSTAMP:20260423T091227
CREATED:20240925T131838Z
LAST-MODIFIED:20240925T133039Z
UID:10001204-1748975400-1748979000@lopbc.org
SUMMARY:Man Camp
DESCRIPTION:Come enjoy a meat-filled meal and fellowship with the men of the church. Occurs every 1st Tuesday.
URL:https://lopbc.org/church_event/man-camp/2025-06-03/
LOCATION:Fellowship Hall\, 9046 FM729\, Avinger\, TX\, 75630
CATEGORIES:Community,Men's Ministry
END:VEVENT
BEGIN:VEVENT
DTSTART;TZID=America/Chicago:20250602T180000
DTEND;TZID=America/Chicago:20250602T190000
DTSTAMP:20260423T091227
CREATED:20250130T222510Z
LAST-MODIFIED:20250130T224652Z
UID:10003037-1748887200-1748890800@lopbc.org
SUMMARY:Women of Worship (WoW) Bible Study
DESCRIPTION:
URL:https://lopbc.org/church_event/women-of-worship-wow-bible-study/2025-06-02/
LOCATION:Fellowship Hall\, 9046 FM729\, Avinger\, TX\, 75630
CATEGORIES:Community,Women's Ministry
END:VEVENT
BEGIN:VEVENT
DTSTART;TZID=America/Chicago:20250601T160000
DTEND;TZID=America/Chicago:20250601T170000
DTSTAMP:20260423T091227
CREATED:20250131T011806Z
LAST-MODIFIED:20250131T011806Z
UID:10003383-1748793600-1748797200@lopbc.org
SUMMARY:VBS Practice
DESCRIPTION:
URL:https://lopbc.org/church_event/vbs-practice/
LOCATION:Fellowship Hall\, 9046 FM729\, Avinger\, TX\, 75630
CATEGORIES:Children's Ministry,Church-wide,VBS,Youth Ministry
END:VEVENT
BEGIN:VEVENT
DTSTART;TZID=America/Chicago:20250528T180000
DTEND;TZID=America/Chicago:20250528T183000
DTSTAMP:20260423T091227
CREATED:20250130T214435Z
LAST-MODIFIED:20260222T204211Z
UID:10002760-1748455200-1748457000@lopbc.org
SUMMARY:Family Night Meal
DESCRIPTION:
URL:https://lopbc.org/church_event/family-night-meal/2025-05-28/
LOCATION:Fellowship Hall\, 9046 FM729\, Avinger\, TX\, 75630
CATEGORIES:Church-wide,Community
END:VEVENT
END:VCALENDAR