BEGIN:VCALENDAR
VERSION:2.0
PRODID:-//Lake O&#039; The Pines Baptist Church - ECPv6.15.20//NONSGML v1.0//EN
CALSCALE:GREGORIAN
METHOD:PUBLISH
X-WR-CALNAME:Lake O&#039; The Pines Baptist Church
X-ORIGINAL-URL:https://lopbc.org
X-WR-CALDESC:Events for Lake O&#039; The Pines Baptist Church
REFRESH-INTERVAL;VALUE=DURATION:PT1H
X-Robots-Tag:noindex
X-PUBLISHED-TTL:PT1H
BEGIN:VTIMEZONE
TZID:America/Chicago
BEGIN:DAYLIGHT
TZOFFSETFROM:-0600
TZOFFSETTO:-0500
TZNAME:CDT
DTSTART:20230312T080000
END:DAYLIGHT
BEGIN:STANDARD
TZOFFSETFROM:-0500
TZOFFSETTO:-0600
TZNAME:CST
DTSTART:20231105T070000
END:STANDARD
BEGIN:DAYLIGHT
TZOFFSETFROM:-0600
TZOFFSETTO:-0500
TZNAME:CDT
DTSTART:20240310T080000
END:DAYLIGHT
BEGIN:STANDARD
TZOFFSETFROM:-0500
TZOFFSETTO:-0600
TZNAME:CST
DTSTART:20241103T070000
END:STANDARD
BEGIN:DAYLIGHT
TZOFFSETFROM:-0600
TZOFFSETTO:-0500
TZNAME:CDT
DTSTART:20250309T080000
END:DAYLIGHT
BEGIN:STANDARD
TZOFFSETFROM:-0500
TZOFFSETTO:-0600
TZNAME:CST
DTSTART:20251102T070000
END:STANDARD
END:VTIMEZONE
BEGIN:VEVENT
DTSTART;TZID=America/Chicago:20241031T183000
DTEND;TZID=America/Chicago:20241031T203000
DTSTAMP:20260423T002147
CREATED:20240226T170924Z
LAST-MODIFIED:20260222T213731Z
UID:10000673-1730399400-1730406600@lopbc.org
SUMMARY:Fall Fest
DESCRIPTION:
URL:https://lopbc.org/church_event/fall-fest/2024-10-31/
LOCATION:LOPBC Parking Lot\, 9046 FM729\, Avinger\, TX\, 75630\, United States
CATEGORIES:Children's Ministry,Church-wide,Community,Youth Ministry
ATTACH;FMTTYPE=image/jpeg:https://lopbc.org/wp-content/uploads/2024/10/Fallfest-scaled.jpeg
END:VEVENT
BEGIN:VEVENT
DTSTART;TZID=America/Chicago:20240413T080000
DTEND;TZID=America/Chicago:20240413T170000
DTSTAMP:20260423T002147
CREATED:20240226T155112Z
LAST-MODIFIED:20240226T234630Z
UID:10000617-1712995200-1713027600@lopbc.org
SUMMARY:Garage Sale
DESCRIPTION:Come check out all of our all of our great stuff!  Proceeds from the garage sale benefit our children and youth.
URL:https://lopbc.org/church_event/garage-sale/
LOCATION:LOPBC Parking Lot\, 9046 FM729\, Avinger\, TX\, 75630\, United States
CATEGORIES:Children's Ministry,Community,Youth Ministry
END:VEVENT
END:VCALENDAR