BEGIN:VCALENDAR
VERSION:2.0
PRODID:-//Lake O&#039; The Pines Baptist Church - ECPv6.15.20//NONSGML v1.0//EN
CALSCALE:GREGORIAN
METHOD:PUBLISH
X-WR-CALNAME:Lake O&#039; The Pines Baptist Church
X-ORIGINAL-URL:https://lopbc.org
X-WR-CALDESC:Events for Lake O&#039; The Pines Baptist Church
REFRESH-INTERVAL;VALUE=DURATION:PT1H
X-Robots-Tag:noindex
X-PUBLISHED-TTL:PT1H
BEGIN:VTIMEZONE
TZID:America/Chicago
BEGIN:DAYLIGHT
TZOFFSETFROM:-0600
TZOFFSETTO:-0500
TZNAME:CDT
DTSTART:20240310T080000
END:DAYLIGHT
BEGIN:STANDARD
TZOFFSETFROM:-0500
TZOFFSETTO:-0600
TZNAME:CST
DTSTART:20241103T070000
END:STANDARD
BEGIN:DAYLIGHT
TZOFFSETFROM:-0600
TZOFFSETTO:-0500
TZNAME:CDT
DTSTART:20250309T080000
END:DAYLIGHT
BEGIN:STANDARD
TZOFFSETFROM:-0500
TZOFFSETTO:-0600
TZNAME:CST
DTSTART:20251102T070000
END:STANDARD
BEGIN:DAYLIGHT
TZOFFSETFROM:-0600
TZOFFSETTO:-0500
TZNAME:CDT
DTSTART:20260308T080000
END:DAYLIGHT
BEGIN:STANDARD
TZOFFSETFROM:-0500
TZOFFSETTO:-0600
TZNAME:CST
DTSTART:20261101T070000
END:STANDARD
END:VTIMEZONE
BEGIN:VEVENT
DTSTART;TZID=America/Chicago:20250702T183000
DTEND;TZID=America/Chicago:20250702T193000
DTSTAMP:20260423T151118
CREATED:20250130T214249Z
LAST-MODIFIED:20260222T200208Z
UID:10002499-1751481000-1751484600@lopbc.org
SUMMARY:Family Night Worship
DESCRIPTION:
URL:https://lopbc.org/church_event/wednesday-night-worship/2025-07-02/
LOCATION:Sanctuary\, 9046 FM729\, Avinger\, TX\, 75630\, United States
CATEGORIES:Church-wide,Community,Worship
END:VEVENT
BEGIN:VEVENT
DTSTART;TZID=America/Chicago:20250629T180000
DTEND;TZID=America/Chicago:20250629T190000
DTSTAMP:20260423T151118
CREATED:20250131T003604Z
LAST-MODIFIED:20250131T003604Z
UID:10003355-1751220000-1751223600@lopbc.org
SUMMARY:Fifth Sunday Singing
DESCRIPTION:
URL:https://lopbc.org/church_event/fifth-sunday-singing/2025-06-29/
LOCATION:Sanctuary\, 9046 FM729\, Avinger\, TX\, 75630\, United States
CATEGORIES:Church-wide,Community,Worship
END:VEVENT
BEGIN:VEVENT
DTSTART;TZID=America/Chicago:20250629T110000
DTEND;TZID=America/Chicago:20250629T123000
DTSTAMP:20260423T151118
CREATED:20250130T213205Z
LAST-MODIFIED:20250131T161102Z
UID:10001699-1751194800-1751200200@lopbc.org
SUMMARY:Sunday AM Worship
DESCRIPTION:
URL:https://lopbc.org/church_event/sunday-am-worship/2025-06-29/
LOCATION:Sanctuary\, 9046 FM729\, Avinger\, TX\, 75630\, United States
CATEGORIES:Church-wide,Community,Worship
END:VEVENT
BEGIN:VEVENT
DTSTART;TZID=America/Chicago:20250625T183000
DTEND;TZID=America/Chicago:20250625T193000
DTSTAMP:20260423T151118
CREATED:20250130T214249Z
LAST-MODIFIED:20260222T200208Z
UID:10002498-1750876200-1750879800@lopbc.org
SUMMARY:Family Night Worship
DESCRIPTION:
URL:https://lopbc.org/church_event/wednesday-night-worship/2025-06-25/
LOCATION:Sanctuary\, 9046 FM729\, Avinger\, TX\, 75630\, United States
CATEGORIES:Church-wide,Community,Worship
END:VEVENT
BEGIN:VEVENT
DTSTART;TZID=America/Chicago:20250622T110000
DTEND;TZID=America/Chicago:20250622T123000
DTSTAMP:20260423T151118
CREATED:20250130T213205Z
LAST-MODIFIED:20250131T161102Z
UID:10001698-1750590000-1750595400@lopbc.org
SUMMARY:Sunday AM Worship
DESCRIPTION:
URL:https://lopbc.org/church_event/sunday-am-worship/2025-06-22/
LOCATION:Sanctuary\, 9046 FM729\, Avinger\, TX\, 75630\, United States
CATEGORIES:Church-wide,Community,Worship
END:VEVENT
BEGIN:VEVENT
DTSTART;TZID=America/Chicago:20250618T183000
DTEND;TZID=America/Chicago:20250618T193000
DTSTAMP:20260423T151118
CREATED:20250130T214249Z
LAST-MODIFIED:20260222T200208Z
UID:10002497-1750271400-1750275000@lopbc.org
SUMMARY:Family Night Worship
DESCRIPTION:
URL:https://lopbc.org/church_event/wednesday-night-worship/2025-06-18/
LOCATION:Sanctuary\, 9046 FM729\, Avinger\, TX\, 75630\, United States
CATEGORIES:Church-wide,Community,Worship
END:VEVENT
BEGIN:VEVENT
DTSTART;TZID=America/Chicago:20250615T180000
DTEND;TZID=America/Chicago:20250615T190000
DTSTAMP:20260423T151118
CREATED:20250130T213902Z
LAST-MODIFIED:20260222T210931Z
UID:10002232-1750010400-1750014000@lopbc.org
SUMMARY:Sunday Evening Worship
DESCRIPTION:
URL:https://lopbc.org/church_event/sunday-evening-worship/2025-06-15/
LOCATION:Sanctuary\, 9046 FM729\, Avinger\, TX\, 75630\, United States
CATEGORIES:Church-wide,Community,Worship
END:VEVENT
BEGIN:VEVENT
DTSTART;TZID=America/Chicago:20250615T170000
DTEND;TZID=America/Chicago:20250615T173000
DTSTAMP:20260423T151118
CREATED:20250131T012448Z
LAST-MODIFIED:20250131T012448Z
UID:10003387-1750006800-1750008600@lopbc.org
SUMMARY:VBS Kick-off and Prayer Walk
DESCRIPTION:
URL:https://lopbc.org/church_event/vbs-kick-off-and-prayer-walk/
LOCATION:Sanctuary\, 9046 FM729\, Avinger\, TX\, 75630\, United States
CATEGORIES:Children's Ministry,Church-wide,VBS
END:VEVENT
BEGIN:VEVENT
DTSTART;TZID=America/Chicago:20250615T110000
DTEND;TZID=America/Chicago:20250615T123000
DTSTAMP:20260423T151118
CREATED:20250130T213205Z
LAST-MODIFIED:20250131T161102Z
UID:10001697-1749985200-1749990600@lopbc.org
SUMMARY:Sunday AM Worship
DESCRIPTION:
URL:https://lopbc.org/church_event/sunday-am-worship/2025-06-15/
LOCATION:Sanctuary\, 9046 FM729\, Avinger\, TX\, 75630\, United States
CATEGORIES:Church-wide,Community,Worship
END:VEVENT
BEGIN:VEVENT
DTSTART;TZID=America/Chicago:20250611T183000
DTEND;TZID=America/Chicago:20250611T193000
DTSTAMP:20260423T151118
CREATED:20250130T214249Z
LAST-MODIFIED:20260222T200208Z
UID:10002496-1749666600-1749670200@lopbc.org
SUMMARY:Family Night Worship
DESCRIPTION:
URL:https://lopbc.org/church_event/wednesday-night-worship/2025-06-11/
LOCATION:Sanctuary\, 9046 FM729\, Avinger\, TX\, 75630\, United States
CATEGORIES:Church-wide,Community,Worship
END:VEVENT
BEGIN:VEVENT
DTSTART;TZID=America/Chicago:20250608T180000
DTEND;TZID=America/Chicago:20250608T190000
DTSTAMP:20260423T151118
CREATED:20250130T213902Z
LAST-MODIFIED:20260222T210931Z
UID:10002231-1749405600-1749409200@lopbc.org
SUMMARY:Sunday Evening Worship
DESCRIPTION:
URL:https://lopbc.org/church_event/sunday-evening-worship/2025-06-08/
LOCATION:Sanctuary\, 9046 FM729\, Avinger\, TX\, 75630\, United States
CATEGORIES:Church-wide,Community,Worship
END:VEVENT
BEGIN:VEVENT
DTSTART;TZID=America/Chicago:20250608T110000
DTEND;TZID=America/Chicago:20250608T123000
DTSTAMP:20260423T151118
CREATED:20250130T213205Z
LAST-MODIFIED:20250131T161102Z
UID:10001696-1749380400-1749385800@lopbc.org
SUMMARY:Sunday AM Worship
DESCRIPTION:
URL:https://lopbc.org/church_event/sunday-am-worship/2025-06-08/
LOCATION:Sanctuary\, 9046 FM729\, Avinger\, TX\, 75630\, United States
CATEGORIES:Church-wide,Community,Worship
END:VEVENT
BEGIN:VEVENT
DTSTART;TZID=America/Chicago:20250604T183000
DTEND;TZID=America/Chicago:20250604T193000
DTSTAMP:20260423T151118
CREATED:20250130T214249Z
LAST-MODIFIED:20260222T200208Z
UID:10002495-1749061800-1749065400@lopbc.org
SUMMARY:Family Night Worship
DESCRIPTION:
URL:https://lopbc.org/church_event/wednesday-night-worship/2025-06-04/
LOCATION:Sanctuary\, 9046 FM729\, Avinger\, TX\, 75630\, United States
CATEGORIES:Church-wide,Community,Worship
END:VEVENT
BEGIN:VEVENT
DTSTART;TZID=America/Chicago:20250601T180000
DTEND;TZID=America/Chicago:20250601T190000
DTSTAMP:20260423T151118
CREATED:20250131T001934Z
LAST-MODIFIED:20250131T001934Z
UID:10003341-1748800800-1748804400@lopbc.org
SUMMARY:Business Meeting
DESCRIPTION:
URL:https://lopbc.org/church_event/business-meeting-3/2025-06-01/
LOCATION:Sanctuary\, 9046 FM729\, Avinger\, TX\, 75630\, United States
CATEGORIES:Church-wide
END:VEVENT
BEGIN:VEVENT
DTSTART;TZID=America/Chicago:20250601T110000
DTEND;TZID=America/Chicago:20250601T123000
DTSTAMP:20260423T151118
CREATED:20250130T213205Z
LAST-MODIFIED:20250131T161102Z
UID:10001695-1748775600-1748781000@lopbc.org
SUMMARY:Sunday AM Worship
DESCRIPTION:
URL:https://lopbc.org/church_event/sunday-am-worship/2025-06-01/
LOCATION:Sanctuary\, 9046 FM729\, Avinger\, TX\, 75630\, United States
CATEGORIES:Church-wide,Community,Worship
END:VEVENT
BEGIN:VEVENT
DTSTART;TZID=America/Chicago:20250601T080000
DTEND;TZID=America/Chicago:20250601T170000
DTSTAMP:20260423T151118
CREATED:20240225T224843Z
LAST-MODIFIED:20240226T024820Z
UID:10000385-1748764800-1748797200@lopbc.org
SUMMARY:Bean Day!
DESCRIPTION:It’s Benevolence Day! Bring your spare change to donate to support our benevolence fund.
URL:https://lopbc.org/church_event/bean-day/2025-06-01/
LOCATION:Sanctuary\, 9046 FM729\, Avinger\, TX\, 75630\, United States
CATEGORIES:Benevolence
ATTACH;FMTTYPE=image/png:https://lopbc.org/wp-content/uploads/2024/02/bean-day.png
END:VEVENT
BEGIN:VEVENT
DTSTART;TZID=America/Chicago:20250528T183000
DTEND;TZID=America/Chicago:20250528T193000
DTSTAMP:20260423T151118
CREATED:20250130T214249Z
LAST-MODIFIED:20260222T200208Z
UID:10002494-1748457000-1748460600@lopbc.org
SUMMARY:Family Night Worship
DESCRIPTION:
URL:https://lopbc.org/church_event/wednesday-night-worship/2025-05-28/
LOCATION:Sanctuary\, 9046 FM729\, Avinger\, TX\, 75630\, United States
CATEGORIES:Church-wide,Community,Worship
END:VEVENT
BEGIN:VEVENT
DTSTART;TZID=America/Chicago:20250525T110000
DTEND;TZID=America/Chicago:20250525T123000
DTSTAMP:20260423T151118
CREATED:20250130T213205Z
LAST-MODIFIED:20250131T161102Z
UID:10001694-1748170800-1748176200@lopbc.org
SUMMARY:Sunday AM Worship
DESCRIPTION:
URL:https://lopbc.org/church_event/sunday-am-worship/2025-05-25/
LOCATION:Sanctuary\, 9046 FM729\, Avinger\, TX\, 75630\, United States
CATEGORIES:Church-wide,Community,Worship
END:VEVENT
BEGIN:VEVENT
DTSTART;TZID=America/Chicago:20250521T183000
DTEND;TZID=America/Chicago:20250521T193000
DTSTAMP:20260423T151118
CREATED:20250130T214249Z
LAST-MODIFIED:20260222T200208Z
UID:10002493-1747852200-1747855800@lopbc.org
SUMMARY:Family Night Worship
DESCRIPTION:
URL:https://lopbc.org/church_event/wednesday-night-worship/2025-05-21/
LOCATION:Sanctuary\, 9046 FM729\, Avinger\, TX\, 75630\, United States
CATEGORIES:Church-wide,Community,Worship
END:VEVENT
BEGIN:VEVENT
DTSTART;TZID=America/Chicago:20250518T180000
DTEND;TZID=America/Chicago:20250518T190000
DTSTAMP:20260423T151118
CREATED:20250130T213902Z
LAST-MODIFIED:20260222T210931Z
UID:10002228-1747591200-1747594800@lopbc.org
SUMMARY:Sunday Evening Worship
DESCRIPTION:
URL:https://lopbc.org/church_event/sunday-evening-worship/2025-05-18/
LOCATION:Sanctuary\, 9046 FM729\, Avinger\, TX\, 75630\, United States
CATEGORIES:Church-wide,Community,Worship
END:VEVENT
BEGIN:VEVENT
DTSTART;TZID=America/Chicago:20250518T160000
DTEND;TZID=America/Chicago:20250518T170000
DTSTAMP:20260423T151118
CREATED:20250130T221823Z
LAST-MODIFIED:20250130T221823Z
UID:10003016-1747584000-1747587600@lopbc.org
SUMMARY:Team War Room Council
DESCRIPTION:
URL:https://lopbc.org/church_event/team-war-room-council/2025-05-18/
LOCATION:Sanctuary\, 9046 FM729\, Avinger\, TX\, 75630\, United States
CATEGORIES:Committees
END:VEVENT
BEGIN:VEVENT
DTSTART;TZID=America/Chicago:20250518T110000
DTEND;TZID=America/Chicago:20250518T123000
DTSTAMP:20260423T151118
CREATED:20250130T213205Z
LAST-MODIFIED:20250131T161102Z
UID:10001693-1747566000-1747571400@lopbc.org
SUMMARY:Sunday AM Worship
DESCRIPTION:
URL:https://lopbc.org/church_event/sunday-am-worship/2025-05-18/
LOCATION:Sanctuary\, 9046 FM729\, Avinger\, TX\, 75630\, United States
CATEGORIES:Church-wide,Community,Worship
END:VEVENT
BEGIN:VEVENT
DTSTART;TZID=America/Chicago:20250514T183000
DTEND;TZID=America/Chicago:20250514T193000
DTSTAMP:20260423T151118
CREATED:20250130T214249Z
LAST-MODIFIED:20260222T200208Z
UID:10002492-1747247400-1747251000@lopbc.org
SUMMARY:Family Night Worship
DESCRIPTION:
URL:https://lopbc.org/church_event/wednesday-night-worship/2025-05-14/
LOCATION:Sanctuary\, 9046 FM729\, Avinger\, TX\, 75630\, United States
CATEGORIES:Church-wide,Community,Worship
END:VEVENT
BEGIN:VEVENT
DTSTART;TZID=America/Chicago:20250511T180000
DTEND;TZID=America/Chicago:20250511T190000
DTSTAMP:20260423T151118
CREATED:20250130T213902Z
LAST-MODIFIED:20260222T210931Z
UID:10002227-1746986400-1746990000@lopbc.org
SUMMARY:Sunday Evening Worship
DESCRIPTION:
URL:https://lopbc.org/church_event/sunday-evening-worship/2025-05-11/
LOCATION:Sanctuary\, 9046 FM729\, Avinger\, TX\, 75630\, United States
CATEGORIES:Church-wide,Community,Worship
END:VEVENT
BEGIN:VEVENT
DTSTART;TZID=America/Chicago:20250511T110000
DTEND;TZID=America/Chicago:20250511T123000
DTSTAMP:20260423T151118
CREATED:20250130T213205Z
LAST-MODIFIED:20250131T161102Z
UID:10001692-1746961200-1746966600@lopbc.org
SUMMARY:Sunday AM Worship
DESCRIPTION:
URL:https://lopbc.org/church_event/sunday-am-worship/2025-05-11/
LOCATION:Sanctuary\, 9046 FM729\, Avinger\, TX\, 75630\, United States
CATEGORIES:Church-wide,Community,Worship
END:VEVENT
BEGIN:VEVENT
DTSTART;TZID=America/Chicago:20250507T183000
DTEND;TZID=America/Chicago:20250507T193000
DTSTAMP:20260423T151118
CREATED:20250130T214249Z
LAST-MODIFIED:20260222T200208Z
UID:10002491-1746642600-1746646200@lopbc.org
SUMMARY:Family Night Worship
DESCRIPTION:
URL:https://lopbc.org/church_event/wednesday-night-worship/2025-05-07/
LOCATION:Sanctuary\, 9046 FM729\, Avinger\, TX\, 75630\, United States
CATEGORIES:Church-wide,Community,Worship
END:VEVENT
BEGIN:VEVENT
DTSTART;TZID=America/Chicago:20250504T180000
DTEND;TZID=America/Chicago:20250504T190000
DTSTAMP:20260423T151118
CREATED:20250130T213902Z
LAST-MODIFIED:20260222T210931Z
UID:10002226-1746381600-1746385200@lopbc.org
SUMMARY:Sunday Evening Worship
DESCRIPTION:
URL:https://lopbc.org/church_event/sunday-evening-worship/2025-05-04/
LOCATION:Sanctuary\, 9046 FM729\, Avinger\, TX\, 75630\, United States
CATEGORIES:Church-wide,Community,Worship
END:VEVENT
BEGIN:VEVENT
DTSTART;TZID=America/Chicago:20250504T160000
DTEND;TZID=America/Chicago:20250504T170000
DTSTAMP:20260423T151118
CREATED:20250131T010951Z
LAST-MODIFIED:20250131T010951Z
UID:10003376-1746374400-1746378000@lopbc.org
SUMMARY:VBS Meeting
DESCRIPTION:
URL:https://lopbc.org/church_event/vbs-meeting-3/
LOCATION:Sanctuary\, 9046 FM729\, Avinger\, TX\, 75630\, United States
CATEGORIES:Bible Drill,Children's Ministry,Church-wide,Youth Ministry
END:VEVENT
BEGIN:VEVENT
DTSTART;TZID=America/Chicago:20250504T110000
DTEND;TZID=America/Chicago:20250504T123000
DTSTAMP:20260423T151118
CREATED:20250130T213205Z
LAST-MODIFIED:20250131T161102Z
UID:10001691-1746356400-1746361800@lopbc.org
SUMMARY:Sunday AM Worship
DESCRIPTION:
URL:https://lopbc.org/church_event/sunday-am-worship/2025-05-04/
LOCATION:Sanctuary\, 9046 FM729\, Avinger\, TX\, 75630\, United States
CATEGORIES:Church-wide,Community,Worship
END:VEVENT
BEGIN:VEVENT
DTSTART;TZID=America/Chicago:20250504T080000
DTEND;TZID=America/Chicago:20250504T170000
DTSTAMP:20260423T151118
CREATED:20240225T224843Z
LAST-MODIFIED:20240226T024820Z
UID:10000384-1746345600-1746378000@lopbc.org
SUMMARY:Bean Day!
DESCRIPTION:It’s Benevolence Day! Bring your spare change to donate to support our benevolence fund.
URL:https://lopbc.org/church_event/bean-day/2025-05-04/
LOCATION:Sanctuary\, 9046 FM729\, Avinger\, TX\, 75630\, United States
CATEGORIES:Benevolence
ATTACH;FMTTYPE=image/png:https://lopbc.org/wp-content/uploads/2024/02/bean-day.png
END:VEVENT
END:VCALENDAR